Workbook

Sheet 使用說明
A1: 107年托嬰中心感染管制查核(輔導)結果暨應改善事項追蹤-使用說明
A2: 一、查核(輔導)作業完成後，須使用本程式登打各托嬰中心查核(輔導)結果。
A3: 二、程式內容：
A4: (1)使用說明 | B4: 提供本程式使用注意事項
A5: (2)成績總覽表 | B5: 不需登打之工作表，僅為連結及查詢之用
A6: (3)「托嬰中心01~30」工作表 | B6: 需登打之工作表，請將「托嬰中心」之查核(輔導)結果登打於這些工作表中，一家「托嬰中心」一個工作表
A7: 三、登打說明：
A8: (1)查核(輔導)作業完成後，依序將「托嬰中心」之查核(輔導)結果登打於預設之工作表（托嬰中心01~30）對應欄位中。
A9: 需登打欄位 | B9: 登打注意事項
A10: 縣(市) | B10: 請以文字型態鍵入
A11: 受查機構名稱 | B11: 請鍵入「托嬰中心」全銜
A12: 查核（輔導）日期 | B12: 請以「民國年(3碼)月(2碼)日(2碼)」之固定格式鍵入，例如：107年5月1日請鍵入1070501
A13: 評分等級 | B13: 請以下拉式選單選擇「符合」、「不符合」或「不適用(僅3-2)」，若鍵入其他文字，成績會計算錯誤
A14: 應改善事項 | B14: 評分等級為「不符合」之項目，請務必明確說明應改善事項並提供改善意見；評分等級為「符合」或「不適用」之項目免填
A15: 其他建議 | B15: 請分項鍵入對受查核(輔導)機構執行感管業務之其他建議事項；若未有其他建議，請鍵入「無」
A16: (2)上述資料登打完成後，將自動計算個別「托嬰中心」查核(輔導)之「達成比率％」及「查核(輔導)結果」。
A17: (3)本登打程式設有簡單提醒機制： 3.1「評分等級」欄位若有誤填、漏填將會呈現「黃色」，查核(輔導)結果將呈現「空白」 3.2「縣(市)」、「機構名稱」、「其他建議」欄位若有漏填將會呈現「黃色」 3.3「應改善事項及建議」欄位若評分等級為「不符合」時，則會呈現「黃色」提醒 3.4「其他建議」欄位漏填將會呈現「黃色」，若未有其他建議，請填入「無」 3.5「免填」欄位會呈現「灰色網點」
A18: (4)若為officeXP或2003版本者，可視需要請調整欄位之列高，以確保登打內容(多行)之完整呈現，以及減少版面紙張之浪費。
A19: (5)可於「托嬰中心」工作表中直接列印「107年托嬰中心感染管制查核(輔導)結果暨應改善事項追蹤」表。
A20: (6)各托嬰中心工作表之內容登打完成後，其登打資料會自動依序連結至「成績總覽表」中，可作為查詢或統計分析之用。
A21: 四、請以縣市別進行存檔，並依「縣市-流水碼-107年托嬰中心感染管制查核(輔導)結果暨應改善事項追蹤」之順序重新命名檔案名稱，範例：臺北市-01-107年托嬰中心感染管制查核(輔導)結果暨應改善事項追蹤.xls、臺北市-02-107年托嬰中心感染管制查核(輔導)結果暨應改善事項追蹤.xls。 （流水碼說明：縣市查核(輔導)≦30家之流水碼為01；若查核(輔導)＞30家以上之縣市則以每30家機構為1個檔案，1-30家之流水碼為01、31-60家為02……依此類推。）
A22: *後續追蹤輔導(參考用，可採紙本作業)
A23: 一、若擬提供電子檔案給托嬰中心填寫「應改善事項」及「其他建議參酌辦理情形」，可將「托嬰中心」工作表另存成單獨檔案。
A24: (1)以滑鼠右鍵按一下【欲另存新檔之托嬰中心工作表】之索引標籤，點選【移動或複製】
A25: (2)出現【移動或複製】的視窗，於活頁簿選擇【新活頁簿】/勾取【建立複本】/按下【確定】
A26: (3)儲存為新的檔案
A27: (4)參考網址：https://support.office.com/zh-tw/article/儲存的工作表-34b46819-ee08-43d3-bda6-d3abc6346cd9
... A31: (3)儲存檔案。

Sheet 成績總覽表
A1: 工作表編號 | B1: 縣市別 | C1: 機構名稱 | D1: 查核日期 | E1: 不符合 | F1: 符合 | G1: 查核結果 | H1: 1.1 | I1: 2.1 | J1: 2.2 | K1: 2.3 | L1: 2.4 | M1: 3.1 | N1: 3.2 | O1: 3.3 | P1: 4.1 | Q1: 4.2 | R1: 4.3 | S1: 5.1 | T1: 5.2 | U1: 5.3 | V1: 5.4 | W1: 6.1 | X1: 6.2 | Y1: 7.1 | Z1: 7.2
A2: 托嬰中心01 | B2: =托嬰中心01!A6 -> 0 | C2: =托嬰中心01!B6 -> 0 | D2: =托嬰中心01!N2 -> 0 | E2: =托嬰中心01!D6 -> 0 | F2: =托嬰中心01!E6 -> 0 | G2: =托嬰中心01!F6 | H2: =托嬰中心01!B8 -> 0 | I2: =托嬰中心01!B9 -> 0 | J2: =托嬰中心01!B10 -> 0 | K2: =托嬰中心01!B11 -> 0 | L2: =托嬰中心01!B12 -> 0 | M2: =托嬰中心01!B13 -> 0 | N2: =托嬰中心01!B14 -> 0 | O2: =托嬰中心01!B15 -> 0 | P2: =托嬰中心01!B16 -> 0 | Q2: =托嬰中心01!B17 -> 0 | R2: =托嬰中心01!B18 -> 0 | S2: =托嬰中心01!B19 -> 0 | T2: =托嬰中心01!B20 -> 0 | U2: =托嬰中心01!B21 -> 0 | V2: =托嬰中心01!B22 -> 0 | W2: =托嬰中心01!B23 -> 0 | X2: =托嬰中心01!B24 -> 0 | Y2: =托嬰中心01!B25 -> 0 | Z2: =托嬰中心01!B26 -> 0
A3: 托嬰中心02 | B3: =托嬰中心02!A6 -> 0 | C3: =托嬰中心02!B6 -> 0 | D3: =托嬰中心02!N2 -> 0 | E3: =托嬰中心02!D6 -> 0 | F3: =托嬰中心02!E6 -> 0 | G3: =托嬰中心02!F6 | H3: =托嬰中心02!B8 -> 0 | I3: =托嬰中心02!B9 -> 0 | J3: =托嬰中心02!B10 -> 0 | K3: =托嬰中心02!B11 -> 0 | L3: =托嬰中心02!B12 -> 0 | M3: =托嬰中心02!B13 -> 0 | N3: =托嬰中心02!B14 -> 0 | O3: =托嬰中心02!B15 -> 0 | P3: =托嬰中心02!B16 -> 0 | Q3: =托嬰中心02!B17 -> 0 | R3: =托嬰中心02!B18 -> 0 | S3: =托嬰中心02!B19 -> 0 | T3: =托嬰中心02!B20 -> 0 | U3: =托嬰中心02!B21 -> 0 | V3: =托嬰中心02!B22 -> 0 | W3: =托嬰中心02!B23 -> 0 | X3: =托嬰中心02!B24 -> 0 | Y3: =托嬰中心02!B25 -> 0 | Z3: =托嬰中心02!B26 -> 0
A4: 托嬰中心03 | B4: =托嬰中心03!A6 -> 0 | C4: =托嬰中心03!B6 -> 0 | D4: =托嬰中心03!N2 -> 0 | E4: =托嬰中心03!D6 -> 0 | F4: =托嬰中心03!E6 -> 0 | G4: =托嬰中心03!F6 | H4: =托嬰中心03!B8 -> 0 | I4: =托嬰中心03!B9 -> 0 | J4: =托嬰中心03!B10 -> 0 | K4: =托嬰中心03!B11 -> 0 | L4: =托嬰中心03!B12 -> 0 | M4: =托嬰中心03!B13 -> 0 | N4: =托嬰中心03!B14 -> 0 | O4: =托嬰中心03!B15 -> 0 | P4: =托嬰中心03!B16 -> 0 | Q4: =托嬰中心03!B17 -> 0 | R4: =托嬰中心03!B18 -> 0 | S4: =托嬰中心03!B19 -> 0 | T4: =托嬰中心03!B20 -> 0 | U4: =托嬰中心03!B21 -> 0 | V4: =托嬰中心03!B22 -> 0 | W4: =托嬰中心03!B23 -> 0 | X4: =托嬰中心03!B24 -> 0 | Y4: =托嬰中心03!B25 -> 0 | Z4: =托嬰中心03!B26 -> 0
A5: 托嬰中心04 | B5: =托嬰中心04!A6 -> 0 | C5: =托嬰中心04!B6 -> 0 | D5: =托嬰中心04!N2 -> 0 | E5: =托嬰中心04!D6 -> 0 | F5: =托嬰中心04!E6 -> 0 | G5: =托嬰中心04!F6 | H5: =托嬰中心04!B8 -> 0 | I5: =托嬰中心04!B9 -> 0 | J5: =托嬰中心04!B10 -> 0 | K5: =托嬰中心04!B11 -> 0 | L5: =托嬰中心04!B12 -> 0 | M5: =托嬰中心04!B13 -> 0 | N5: =托嬰中心04!B14 -> 0 | O5: =托嬰中心04!B15 -> 0 | P5: =托嬰中心04!B16 -> 0 | Q5: =托嬰中心04!B17 -> 0 | R5: =托嬰中心04!B18 -> 0 | S5: =托嬰中心04!B19 -> 0 | T5: =托嬰中心04!B20 -> 0 | U5: =托嬰中心04!B21 -> 0 | V5: =托嬰中心04!B22 -> 0 | W5: =托嬰中心04!B23 -> 0 | X5: =托嬰中心04!B24 -> 0 | Y5: =托嬰中心04!B25 -> 0 | Z5: =托嬰中心04!B26 -> 0
A6: 托嬰中心05 | B6: =托嬰中心05!A6 -> 0 | C6: =托嬰中心05!B6 -> 0 | D6: =托嬰中心05!N2 -> 0 | E6: =托嬰中心05!D6 -> 0 | F6: =托嬰中心05!E6 -> 0 | G6: =托嬰中心05!F6 | H6: =托嬰中心05!B8 -> 0 | I6: =托嬰中心05!B9 -> 0 | J6: =托嬰中心05!B10 -> 0 | K6: =托嬰中心05!B11 -> 0 | L6: =托嬰中心05!B12 -> 0 | M6: =托嬰中心05!B13 -> 0 | N6: =托嬰中心05!B14 -> 0 | O6: =托嬰中心05!B15 -> 0 | P6: =托嬰中心05!B16 -> 0 | Q6: =托嬰中心05!B17 -> 0 | R6: =托嬰中心05!B18 -> 0 | S6: =托嬰中心05!B19 -> 0 | T6: =托嬰中心05!B20 -> 0 | U6: =托嬰中心05!B21 -> 0 | V6: =托嬰中心05!B22 -> 0 | W6: =托嬰中心05!B23 -> 0 | X6: =托嬰中心05!B24 -> 0 | Y6: =托嬰中心05!B25 -> 0 | Z6: =托嬰中心05!B26 -> 0
A7: 托嬰中心06 | B7: =托嬰中心06!A6 -> 0 | C7: =托嬰中心06!B6 -> 0 | D7: =托嬰中心06!N2 -> 0 | E7: =托嬰中心06!D6 -> 0 | F7: =托嬰中心06!E6 -> 0 | G7: =托嬰中心06!F6 | H7: =托嬰中心06!B8 -> 0 | I7: =托嬰中心06!B9 -> 0 | J7: =托嬰中心06!B10 -> 0 | K7: =托嬰中心06!B11 -> 0 | L7: =托嬰中心06!B12 -> 0 | M7: =托嬰中心06!B13 -> 0 | N7: =托嬰中心06!B14 -> 0 | O7: =托嬰中心06!B15 -> 0 | P7: =托嬰中心06!B16 -> 0 | Q7: =托嬰中心06!B17 -> 0 | R7: =托嬰中心06!B18 -> 0 | S7: =托嬰中心06!B19 -> 0 | T7: =托嬰中心06!B20 -> 0 | U7: =托嬰中心06!B21 -> 0 | V7: =托嬰中心06!B22 -> 0 | W7: =托嬰中心06!B23 -> 0 | X7: =托嬰中心06!B24 -> 0 | Y7: =托嬰中心06!B25 -> 0 | Z7: =托嬰中心06!B26 -> 0
A8: 托嬰中心07 | B8: =托嬰中心07!A6 -> 0 | C8: =托嬰中心07!B6 -> 0 | D8: =托嬰中心07!N2 -> 0 | E8: =托嬰中心07!D6 -> 0 | F8: =托嬰中心07!E6 -> 0 | G8: =托嬰中心07!F6 | H8: =托嬰中心07!B8 -> 0 | I8: =托嬰中心07!B9 -> 0 | J8: =托嬰中心07!B10 -> 0 | K8: =托嬰中心07!B11 -> 0 | L8: =托嬰中心07!B12 -> 0 | M8: =托嬰中心07!B13 -> 0 | N8: =托嬰中心07!B14 -> 0 | O8: =托嬰中心07!B15 -> 0 | P8: =托嬰中心07!B16 -> 0 | Q8: =托嬰中心07!B17 -> 0 | R8: =托嬰中心07!B18 -> 0 | S8: =托嬰中心07!B19 -> 0 | T8: =托嬰中心07!B20 -> 0 | U8: =托嬰中心07!B21 -> 0 | V8: =托嬰中心07!B22 -> 0 | W8: =托嬰中心07!B23 -> 0 | X8: =托嬰中心07!B24 -> 0 | Y8: =托嬰中心07!B25 -> 0 | Z8: =托嬰中心07!B26 -> 0
A9: 托嬰中心08 | B9: =托嬰中心08!A6 -> 0 | C9: =托嬰中心08!B6 -> 0 | D9: =托嬰中心08!N2 -> 0 | E9: =托嬰中心08!D6 -> 0 | F9: =托嬰中心08!E6 -> 0 | G9: =托嬰中心08!F6 | H9: =托嬰中心08!B8 -> 0 | I9: =托嬰中心08!B9 -> 0 | J9: =托嬰中心08!B10 -> 0 | K9: =托嬰中心08!B11 -> 0 | L9: =托嬰中心08!B12 -> 0 | M9: =托嬰中心08!B13 -> 0 | N9: =托嬰中心08!B14 -> 0 | O9: =托嬰中心08!B15 -> 0 | P9: =托嬰中心08!B16 -> 0 | Q9: =托嬰中心08!B17 -> 0 | R9: =托嬰中心08!B18 -> 0 | S9: =托嬰中心08!B19 -> 0 | T9: =托嬰中心08!B20 -> 0 | U9: =托嬰中心08!B21 -> 0 | V9: =托嬰中心08!B22 -> 0 | W9: =托嬰中心08!B23 -> 0 | X9: =托嬰中心08!B24 -> 0 | Y9: =托嬰中心08!B25 -> 0 | Z9: =托嬰中心08!B26 -> 0
A10: 托嬰中心09 | B10: =托嬰中心09!A6 -> 0 | C10: =托嬰中心09!B6 -> 0 | D10: =托嬰中心09!N2 -> 0 | E10: =托嬰中心09!D6 -> 0 | F10: =托嬰中心09!E6 -> 0 | G10: =托嬰中心09!F6 | H10: =托嬰中心09!B8 -> 0 | I10: =托嬰中心09!B9 -> 0 | J10: =托嬰中心09!B10 -> 0 | K10: =托嬰中心09!B11 -> 0 | L10: =托嬰中心09!B12 -> 0 | M10: =托嬰中心09!B13 -> 0 | N10: =托嬰中心09!B14 -> 0 | O10: =托嬰中心09!B15 -> 0 | P10: =托嬰中心09!B16 -> 0 | Q10: =托嬰中心09!B17 -> 0 | R10: =托嬰中心09!B18 -> 0 | S10: =托嬰中心09!B19 -> 0 | T10: =托嬰中心09!B20 -> 0 | U10: =托嬰中心09!B21 -> 0 | V10: =托嬰中心09!B22 -> 0 | W10: =托嬰中心09!B23 -> 0 | X10: =托嬰中心09!B24 -> 0 | Y10: =托嬰中心09!B25 -> 0 | Z10: =托嬰中心09!B26 -> 0
A11: 托嬰中心10 | B11: =托嬰中心10!A6 -> 0 | C11: =托嬰中心10!B6 -> 0 | D11: =托嬰中心10!N2 -> 0 | E11: =托嬰中心10!D6 -> 0 | F11: =托嬰中心10!E6 -> 0 | G11: =托嬰中心10!F6 | H11: =托嬰中心10!B8 -> 0 | I11: =托嬰中心10!B9 -> 0 | J11: =托嬰中心10!B10 -> 0 | K11: =托嬰中心10!B11 -> 0 | L11: =托嬰中心10!B12 -> 0 | M11: =托嬰中心10!B13 -> 0 | N11: =托嬰中心10!B14 -> 0 | O11: =托嬰中心10!B15 -> 0 | P11: =托嬰中心10!B16 -> 0 | Q11: =托嬰中心10!B17 -> 0 | R11: =托嬰中心10!B18 -> 0 | S11: =托嬰中心10!B19 -> 0 | T11: =托嬰中心10!B20 -> 0 | U11: =托嬰中心10!B21 -> 0 | V11: =托嬰中心10!B22 -> 0 | W11: =托嬰中心10!B23 -> 0 | X11: =托嬰中心10!B24 -> 0 | Y11: =托嬰中心10!B25 -> 0 | Z11: =托嬰中心10!B26 -> 0
A12: 托嬰中心11 | B12: =托嬰中心11!A6 -> 0 | C12: =托嬰中心11!B6 -> 0 | D12: =托嬰中心11!N2 -> 0 | E12: =托嬰中心11!D6 -> 0 | F12: =托嬰中心11!E6 -> 0 | G12: =托嬰中心11!F6 | H12: =托嬰中心11!B8 -> 0 | I12: =托嬰中心11!B9 -> 0 | J12: =托嬰中心11!B10 -> 0 | K12: =托嬰中心11!B11 -> 0 | L12: =托嬰中心11!B12 -> 0 | M12: =托嬰中心11!B13 -> 0 | N12: =托嬰中心11!B14 -> 0 | O12: =托嬰中心11!B15 -> 0 | P12: =托嬰中心11!B16 -> 0 | Q12: =托嬰中心11!B17 -> 0 | R12: =托嬰中心11!B18 -> 0 | S12: =托嬰中心11!B19 -> 0 | T12: =托嬰中心11!B20 -> 0 | U12: =托嬰中心11!B21 -> 0 | V12: =托嬰中心11!B22 -> 0 | W12: =托嬰中心11!B23 -> 0 | X12: =托嬰中心11!B24 -> 0 | Y12: =托嬰中心11!B25 -> 0 | Z12: =托嬰中心11!B26 -> 0
A13: 托嬰中心12 | B13: =托嬰中心12!A6 -> 0 | C13: =托嬰中心12!B6 -> 0 | D13: =托嬰中心12!N2 -> 0 | E13: =托嬰中心12!D6 -> 0 | F13: =托嬰中心12!E6 -> 0 | G13: =托嬰中心12!F6 | H13: =托嬰中心12!B8 -> 0 | I13: =托嬰中心12!B9 -> 0 | J13: =托嬰中心12!B10 -> 0 | K13: =托嬰中心12!B11 -> 0 | L13: =托嬰中心12!B12 -> 0 | M13: =托嬰中心12!B13 -> 0 | N13: =托嬰中心12!B14 -> 0 | O13: =托嬰中心12!B15 -> 0 | P13: =托嬰中心12!B16 -> 0 | Q13: =托嬰中心12!B17 -> 0 | R13: =托嬰中心12!B18 -> 0 | S13: =托嬰中心12!B19 -> 0 | T13: =托嬰中心12!B20 -> 0 | U13: =托嬰中心12!B21 -> 0 | V13: =托嬰中心12!B22 -> 0 | W13: =托嬰中心12!B23 -> 0 | X13: =托嬰中心12!B24 -> 0 | Y13: =托嬰中心12!B25 -> 0 | Z13: =托嬰中心12!B26 -> 0
A14: 托嬰中心13 | B14: =托嬰中心13!A6 -> 0 | C14: =托嬰中心13!B6 -> 0 | D14: =托嬰中心13!N2 -> 0 | E14: =托嬰中心13!D6 -> 0 | F14: =托嬰中心13!E6 -> 0 | G14: =托嬰中心13!F6 | H14: =托嬰中心13!B8 -> 0 | I14: =托嬰中心13!B9 -> 0 | J14: =托嬰中心13!B10 -> 0 | K14: =托嬰中心13!B11 -> 0 | L14: =托嬰中心13!B12 -> 0 | M14: =托嬰中心13!B13 -> 0 | N14: =托嬰中心13!B14 -> 0 | O14: =托嬰中心13!B15 -> 0 | P14: =托嬰中心13!B16 -> 0 | Q14: =托嬰中心13!B17 -> 0 | R14: =托嬰中心13!B18 -> 0 | S14: =托嬰中心13!B19 -> 0 | T14: =托嬰中心13!B20 -> 0 | U14: =托嬰中心13!B21 -> 0 | V14: =托嬰中心13!B22 -> 0 | W14: =托嬰中心13!B23 -> 0 | X14: =托嬰中心13!B24 -> 0 | Y14: =托嬰中心13!B25 -> 0 | Z14: =托嬰中心13!B26 -> 0
A15: 托嬰中心14 | B15: =托嬰中心14!A6 -> 0 | C15: =托嬰中心14!B6 -> 0 | D15: =托嬰中心14!N2 -> 0 | E15: =托嬰中心14!D6 -> 0 | F15: =托嬰中心14!E6 -> 0 | G15: =托嬰中心14!F6 | H15: =托嬰中心14!B8 -> 0 | I15: =托嬰中心14!B9 -> 0 | J15: =托嬰中心14!B10 -> 0 | K15: =托嬰中心14!B11 -> 0 | L15: =托嬰中心14!B12 -> 0 | M15: =托嬰中心14!B13 -> 0 | N15: =托嬰中心14!B14 -> 0 | O15: =托嬰中心14!B15 -> 0 | P15: =托嬰中心14!B16 -> 0 | Q15: =托嬰中心14!B17 -> 0 | R15: =托嬰中心14!B18 -> 0 | S15: =托嬰中心14!B19 -> 0 | T15: =托嬰中心14!B20 -> 0 | U15: =托嬰中心14!B21 -> 0 | V15: =托嬰中心14!B22 -> 0 | W15: =托嬰中心14!B23 -> 0 | X15: =托嬰中心14!B24 -> 0 | Y15: =托嬰中心14!B25 -> 0 | Z15: =托嬰中心14!B26 -> 0
A16: 托嬰中心15 | B16: =托嬰中心15!A6 -> 0 | C16: =托嬰中心15!B6 -> 0 | D16: =托嬰中心15!N2 -> 0 | E16: =托嬰中心15!D6 -> 0 | F16: =托嬰中心15!E6 -> 0 | G16: =托嬰中心15!F6 | H16: =托嬰中心15!B8 -> 0 | I16: =托嬰中心15!B9 -> 0 | J16: =托嬰中心15!B10 -> 0 | K16: =托嬰中心15!B11 -> 0 | L16: =托嬰中心15!B12 -> 0 | M16: =托嬰中心15!B13 -> 0 | N16: =托嬰中心15!B14 -> 0 | O16: =托嬰中心15!B15 -> 0 | P16: =托嬰中心15!B16 -> 0 | Q16: =托嬰中心15!B17 -> 0 | R16: =托嬰中心15!B18 -> 0 | S16: =托嬰中心15!B19 -> 0 | T16: =托嬰中心15!B20 -> 0 | U16: =托嬰中心15!B21 -> 0 | V16: =托嬰中心15!B22 -> 0 | W16: =托嬰中心15!B23 -> 0 | X16: =托嬰中心15!B24 -> 0 | Y16: =托嬰中心15!B25 -> 0 | Z16: =托嬰中心15!B26 -> 0
A17: 托嬰中心16 | B17: =托嬰中心16!A6 -> 0 | C17: =托嬰中心16!B6 -> 0 | D17: =托嬰中心16!N2 -> 0 | E17: =托嬰中心16!D6 -> 0 | F17: =托嬰中心16!E6 -> 0 | G17: =托嬰中心16!F6 | H17: =托嬰中心16!B8 -> 0 | I17: =托嬰中心16!B9 -> 0 | J17: =托嬰中心16!B10 -> 0 | K17: =托嬰中心16!B11 -> 0 | L17: =托嬰中心16!B12 -> 0 | M17: =托嬰中心16!B13 -> 0 | N17: =托嬰中心16!B14 -> 0 | O17: =托嬰中心16!B15 -> 0 | P17: =托嬰中心16!B16 -> 0 | Q17: =托嬰中心16!B17 -> 0 | R17: =托嬰中心16!B18 -> 0 | S17: =托嬰中心16!B19 -> 0 | T17: =托嬰中心16!B20 -> 0 | U17: =托嬰中心16!B21 -> 0 | V17: =托嬰中心16!B22 -> 0 | W17: =托嬰中心16!B23 -> 0 | X17: =托嬰中心16!B24 -> 0 | Y17: =托嬰中心16!B25 -> 0 | Z17: =托嬰中心16!B26 -> 0
A18: 托嬰中心17 | B18: =托嬰中心17!A6 -> 0 | C18: =托嬰中心17!B6 -> 0 | D18: =托嬰中心17!N2 -> 0 | E18: =托嬰中心17!D6 -> 0 | F18: =托嬰中心17!E6 -> 0 | G18: =托嬰中心17!F6 | H18: =托嬰中心17!B8 -> 0 | I18: =托嬰中心17!B9 -> 0 | J18: =托嬰中心17!B10 -> 0 | K18: =托嬰中心17!B11 -> 0 | L18: =托嬰中心17!B12 -> 0 | M18: =托嬰中心17!B13 -> 0 | N18: =托嬰中心17!B14 -> 0 | O18: =托嬰中心17!B15 -> 0 | P18: =托嬰中心17!B16 -> 0 | Q18: =托嬰中心17!B17 -> 0 | R18: =托嬰中心17!B18 -> 0 | S18: =托嬰中心17!B19 -> 0 | T18: =托嬰中心17!B20 -> 0 | U18: =托嬰中心17!B21 -> 0 | V18: =托嬰中心17!B22 -> 0 | W18: =托嬰中心17!B23 -> 0 | X18: =托嬰中心17!B24 -> 0 | Y18: =托嬰中心17!B25 -> 0 | Z18: =托嬰中心17!B26 -> 0
A19: 托嬰中心18 | B19: =托嬰中心18!A6 -> 0 | C19: =托嬰中心18!B6 -> 0 | D19: =托嬰中心18!N2 -> 0 | E19: =托嬰中心18!D6 -> 0 | F19: =托嬰中心18!E6 -> 0 | G19: =托嬰中心18!F6 | H19: =托嬰中心18!B8 -> 0 | I19: =托嬰中心18!B9 -> 0 | J19: =托嬰中心18!B10 -> 0 | K19: =托嬰中心18!B11 -> 0 | L19: =托嬰中心18!B12 -> 0 | M19: =托嬰中心18!B13 -> 0 | N19: =托嬰中心18!B14 -> 0 | O19: =托嬰中心18!B15 -> 0 | P19: =托嬰中心18!B16 -> 0 | Q19: =托嬰中心18!B17 -> 0 | R19: =托嬰中心18!B18 -> 0 | S19: =托嬰中心18!B19 -> 0 | T19: =托嬰中心18!B20 -> 0 | U19: =托嬰中心18!B21 -> 0 | V19: =托嬰中心18!B22 -> 0 | W19: =托嬰中心18!B23 -> 0 | X19: =托嬰中心18!B24 -> 0 | Y19: =托嬰中心18!B25 -> 0 | Z19: =托嬰中心18!B26 -> 0
A20: 托嬰中心19 | B20: =托嬰中心19!A6 -> 0 | C20: =托嬰中心19!B6 -> 0 | D20: =托嬰中心19!N2 -> 0 | E20: =托嬰中心19!D6 -> 0 | F20: =托嬰中心19!E6 -> 0 | G20: =托嬰中心19!F6 | H20: =托嬰中心19!B8 -> 0 | I20: =托嬰中心19!B9 -> 0 | J20: =托嬰中心19!B10 -> 0 | K20: =托嬰中心19!B11 -> 0 | L20: =托嬰中心19!B12 -> 0 | M20: =托嬰中心19!B13 -> 0 | N20: =托嬰中心19!B14 -> 0 | O20: =托嬰中心19!B15 -> 0 | P20: =托嬰中心19!B16 -> 0 | Q20: =托嬰中心19!B17 -> 0 | R20: =托嬰中心19!B18 -> 0 | S20: =托嬰中心19!B19 -> 0 | T20: =托嬰中心19!B20 -> 0 | U20: =托嬰中心19!B21 -> 0 | V20: =托嬰中心19!B22 -> 0 | W20: =托嬰中心19!B23 -> 0 | X20: =托嬰中心19!B24 -> 0 | Y20: =托嬰中心19!B25 -> 0 | Z20: =托嬰中心19!B26 -> 0
A21: 托嬰中心20 | B21: =托嬰中心20!A6 -> 0 | C21: =托嬰中心20!B6 -> 0 | D21: =托嬰中心20!N2 -> 0 | E21: =托嬰中心20!D6 -> 0 | F21: =托嬰中心20!E6 -> 0 | G21: =托嬰中心20!F6 | H21: =托嬰中心20!B8 -> 0 | I21: =托嬰中心20!B9 -> 0 | J21: =托嬰中心20!B10 -> 0 | K21: =托嬰中心20!B11 -> 0 | L21: =托嬰中心20!B12 -> 0 | M21: =托嬰中心20!B13 -> 0 | N21: =托嬰中心20!B14 -> 0 | O21: =托嬰中心20!B15 -> 0 | P21: =托嬰中心20!B16 -> 0 | Q21: =托嬰中心20!B17 -> 0 | R21: =托嬰中心20!B18 -> 0 | S21: =托嬰中心20!B19 -> 0 | T21: =托嬰中心20!B20 -> 0 | U21: =托嬰中心20!B21 -> 0 | V21: =托嬰中心20!B22 -> 0 | W21: =托嬰中心20!B23 -> 0 | X21: =托嬰中心20!B24 -> 0 | Y21: =托嬰中心20!B25 -> 0 | Z21: =托嬰中心20!B26 -> 0
A22: 托嬰中心21 | B22: =托嬰中心21!A6 -> 0 | C22: =托嬰中心21!B6 -> 0 | D22: =托嬰中心21!N2 -> 0 | E22: =托嬰中心21!D6 -> 0 | F22: =托嬰中心21!E6 -> 0 | G22: =托嬰中心21!F6 | H22: =托嬰中心21!B8 -> 0 | I22: =托嬰中心21!B9 -> 0 | J22: =托嬰中心21!B10 -> 0 | K22: =托嬰中心21!B11 -> 0 | L22: =托嬰中心21!B12 -> 0 | M22: =托嬰中心21!B13 -> 0 | N22: =托嬰中心21!B14 -> 0 | O22: =托嬰中心21!B15 -> 0 | P22: =托嬰中心21!B16 -> 0 | Q22: =托嬰中心21!B17 -> 0 | R22: =托嬰中心21!B18 -> 0 | S22: =托嬰中心21!B19 -> 0 | T22: =托嬰中心21!B20 -> 0 | U22: =托嬰中心21!B21 -> 0 | V22: =托嬰中心21!B22 -> 0 | W22: =托嬰中心21!B23 -> 0 | X22: =托嬰中心21!B24 -> 0 | Y22: =托嬰中心21!B25 -> 0 | Z22: =托嬰中心21!B26 -> 0
A23: 托嬰中心22 | B23: =托嬰中心22!A6 -> 0 | C23: =托嬰中心22!B6 -> 0 | D23: =托嬰中心22!N2 -> 0 | E23: =托嬰中心22!D6 -> 0 | F23: =托嬰中心22!E6 -> 0 | G23: =托嬰中心22!F6 | H23: =托嬰中心22!B8 -> 0 | I23: =托嬰中心22!B9 -> 0 | J23: =托嬰中心22!B10 -> 0 | K23: =托嬰中心22!B11 -> 0 | L23: =托嬰中心22!B12 -> 0 | M23: =托嬰中心22!B13 -> 0 | N23: =托嬰中心22!B14 -> 0 | O23: =托嬰中心22!B15 -> 0 | P23: =托嬰中心22!B16 -> 0 | Q23: =托嬰中心22!B17 -> 0 | R23: =托嬰中心22!B18 -> 0 | S23: =托嬰中心22!B19 -> 0 | T23: =托嬰中心22!B20 -> 0 | U23: =托嬰中心22!B21 -> 0 | V23: =托嬰中心22!B22 -> 0 | W23: =托嬰中心22!B23 -> 0 | X23: =托嬰中心22!B24 -> 0 | Y23: =托嬰中心22!B25 -> 0 | Z23: =托嬰中心22!B26 -> 0
A24: 托嬰中心23 | B24: =托嬰中心23!A6 -> 0 | C24: =托嬰中心23!B6 -> 0 | D24: =托嬰中心23!N2 -> 0 | E24: =托嬰中心23!D6 -> 0 | F24: =托嬰中心23!E6 -> 0 | G24: =托嬰中心23!F6 | H24: =托嬰中心23!B8 -> 0 | I24: =托嬰中心23!B9 -> 0 | J24: =托嬰中心23!B10 -> 0 | K24: =托嬰中心23!B11 -> 0 | L24: =托嬰中心23!B12 -> 0 | M24: =托嬰中心23!B13 -> 0 | N24: =托嬰中心23!B14 -> 0 | O24: =托嬰中心23!B15 -> 0 | P24: =托嬰中心23!B16 -> 0 | Q24: =托嬰中心23!B17 -> 0 | R24: =托嬰中心23!B18 -> 0 | S24: =托嬰中心23!B19 -> 0 | T24: =托嬰中心23!B20 -> 0 | U24: =托嬰中心23!B21 -> 0 | V24: =托嬰中心23!B22 -> 0 | W24: =托嬰中心23!B23 -> 0 | X24: =托嬰中心23!B24 -> 0 | Y24: =托嬰中心23!B25 -> 0 | Z24: =托嬰中心23!B26 -> 0
A25: 托嬰中心24 | B25: =托嬰中心24!A6 -> 0 | C25: =托嬰中心24!B6 -> 0 | D25: =托嬰中心24!N2 -> 0 | E25: =托嬰中心24!D6 -> 0 | F25: =托嬰中心24!E6 -> 0 | G25: =托嬰中心24!F6 | H25: =托嬰中心24!B8 -> 0 | I25: =托嬰中心24!B9 -> 0 | J25: =托嬰中心24!B10 -> 0 | K25: =托嬰中心24!B11 -> 0 | L25: =托嬰中心24!B12 -> 0 | M25: =托嬰中心24!B13 -> 0 | N25: =托嬰中心24!B14 -> 0 | O25: =托嬰中心24!B15 -> 0 | P25: =托嬰中心24!B16 -> 0 | Q25: =托嬰中心24!B17 -> 0 | R25: =托嬰中心24!B18 -> 0 | S25: =托嬰中心24!B19 -> 0 | T25: =托嬰中心24!B20 -> 0 | U25: =托嬰中心24!B21 -> 0 | V25: =托嬰中心24!B22 -> 0 | W25: =托嬰中心24!B23 -> 0 | X25: =托嬰中心24!B24 -> 0 | Y25: =托嬰中心24!B25 -> 0 | Z25: =托嬰中心24!B26 -> 0
A26: 托嬰中心25 | B26: =托嬰中心25!A6 -> 0 | C26: =托嬰中心25!B6 -> 0 | D26: =托嬰中心25!N2 -> 0 | E26: =托嬰中心25!D6 -> 0 | F26: =托嬰中心25!E6 -> 0 | G26: =托嬰中心25!F6 | H26: =托嬰中心25!B8 -> 0 | I26: =托嬰中心25!B9 -> 0 | J26: =托嬰中心25!B10 -> 0 | K26: =托嬰中心25!B11 -> 0 | L26: =托嬰中心25!B12 -> 0 | M26: =托嬰中心25!B13 -> 0 | N26: =托嬰中心25!B14 -> 0 | O26: =托嬰中心25!B15 -> 0 | P26: =托嬰中心25!B16 -> 0 | Q26: =托嬰中心25!B17 -> 0 | R26: =托嬰中心25!B18 -> 0 | S26: =托嬰中心25!B19 -> 0 | T26: =托嬰中心25!B20 -> 0 | U26: =托嬰中心25!B21 -> 0 | V26: =托嬰中心25!B22 -> 0 | W26: =托嬰中心25!B23 -> 0 | X26: =托嬰中心25!B24 -> 0 | Y26: =托嬰中心25!B25 -> 0 | Z26: =托嬰中心25!B26 -> 0
A27: 托嬰中心26 | B27: =托嬰中心26!A6 -> 0 | C27: =托嬰中心26!B6 -> 0 | D27: =托嬰中心26!N2 -> 0 | E27: =托嬰中心26!D6 -> 0 | F27: =托嬰中心26!E6 -> 0 | G27: =托嬰中心26!F6 | H27: =托嬰中心26!B8 -> 0 | I27: =托嬰中心26!B9 -> 0 | J27: =托嬰中心26!B10 -> 0 | K27: =托嬰中心26!B11 -> 0 | L27: =托嬰中心26!B12 -> 0 | M27: =托嬰中心26!B13 -> 0 | N27: =托嬰中心26!B14 -> 0 | O27: =托嬰中心26!B15 -> 0 | P27: =托嬰中心26!B16 -> 0 | Q27: =托嬰中心26!B17 -> 0 | R27: =托嬰中心26!B18 -> 0 | S27: =托嬰中心26!B19 -> 0 | T27: =托嬰中心26!B20 -> 0 | U27: =托嬰中心26!B21 -> 0 | V27: =托嬰中心26!B22 -> 0 | W27: =托嬰中心26!B23 -> 0 | X27: =托嬰中心26!B24 -> 0 | Y27: =托嬰中心26!B25 -> 0 | Z27: =托嬰中心26!B26 -> 0
A28: 托嬰中心27 | B28: =托嬰中心27!A6 -> 0 | C28: =托嬰中心27!B6 -> 0 | D28: =托嬰中心27!N2 -> 0 | E28: =托嬰中心27!D6 -> 0 | F28: =托嬰中心27!E6 -> 0 | G28: =托嬰中心27!F6 | H28: =托嬰中心27!B8 -> 0 | I28: =托嬰中心27!B9 -> 0 | J28: =托嬰中心27!B10 -> 0 | K28: =托嬰中心27!B11 -> 0 | L28: =托嬰中心27!B12 -> 0 | M28: =托嬰中心27!B13 -> 0 | N28: =托嬰中心27!B14 -> 0 | O28: =托嬰中心27!B15 -> 0 | P28: =托嬰中心27!B16 -> 0 | Q28: =托嬰中心27!B17 -> 0 | R28: =托嬰中心27!B18 -> 0 | S28: =托嬰中心27!B19 -> 0 | T28: =托嬰中心27!B20 -> 0 | U28: =托嬰中心27!B21 -> 0 | V28: =托嬰中心27!B22 -> 0 | W28: =托嬰中心27!B23 -> 0 | X28: =托嬰中心27!B24 -> 0 | Y28: =托嬰中心27!B25 -> 0 | Z28: =托嬰中心27!B26 -> 0
A29: 托嬰中心28 | B29: =托嬰中心28!A6 -> 0 | C29: =托嬰中心28!B6 -> 0 | D29: =托嬰中心28!N2 -> 0 | E29: =托嬰中心28!D6 -> 0 | F29: =托嬰中心28!E6 -> 0 | G29: =托嬰中心28!F6 | H29: =托嬰中心28!B8 -> 0 | I29: =托嬰中心28!B9 -> 0 | J29: =托嬰中心28!B10 -> 0 | K29: =托嬰中心28!B11 -> 0 | L29: =托嬰中心28!B12 -> 0 | M29: =托嬰中心28!B13 -> 0 | N29: =托嬰中心28!B14 -> 0 | O29: =托嬰中心28!B15 -> 0 | P29: =托嬰中心28!B16 -> 0 | Q29: =托嬰中心28!B17 -> 0 | R29: =托嬰中心28!B18 -> 0 | S29: =托嬰中心28!B19 -> 0 | T29: =托嬰中心28!B20 -> 0 | U29: =托嬰中心28!B21 -> 0 | V29: =托嬰中心28!B22 -> 0 | W29: =托嬰中心28!B23 -> 0 | X29: =托嬰中心28!B24 -> 0 | Y29: =托嬰中心28!B25 -> 0 | Z29: =托嬰中心28!B26 -> 0
A30: 托嬰中心29 | B30: =托嬰中心29!A6 -> 0 | C30: =托嬰中心29!B6 -> 0 | D30: =托嬰中心29!N2 -> 0 | E30: =托嬰中心29!D6 -> 0 | F30: =托嬰中心29!E6 -> 0 | G30: =托嬰中心29!F6 | H30: =托嬰中心29!B8 -> 0 | I30: =托嬰中心29!B9 -> 0 | J30: =托嬰中心29!B10 -> 0 | K30: =托嬰中心29!B11 -> 0 | L30: =托嬰中心29!B12 -> 0 | M30: =托嬰中心29!B13 -> 0 | N30: =托嬰中心29!B14 -> 0 | O30: =托嬰中心29!B15 -> 0 | P30: =托嬰中心29!B16 -> 0 | Q30: =托嬰中心29!B17 -> 0 | R30: =托嬰中心29!B18 -> 0 | S30: =托嬰中心29!B19 -> 0 | T30: =托嬰中心29!B20 -> 0 | U30: =托嬰中心29!B21 -> 0 | V30: =托嬰中心29!B22 -> 0 | W30: =托嬰中心29!B23 -> 0 | X30: =托嬰中心29!B24 -> 0 | Y30: =托嬰中心29!B25 -> 0 | Z30: =托嬰中心29!B26 -> 0
A31: 托嬰中心30 | B31: =托嬰中心30!A6 -> 0 | C31: =托嬰中心30!B6 -> 0 | D31: =托嬰中心30!N2 -> 0 | E31: =托嬰中心30!D6 -> 0 | F31: =托嬰中心30!E6 -> 0 | G31: =托嬰中心30!F6 | H31: =托嬰中心30!B8 -> 0 | I31: =托嬰中心30!B9 -> 0 | J31: =托嬰中心30!B10 -> 0 | K31: =托嬰中心30!B11 -> 0 | L31: =托嬰中心30!B12 -> 0 | M31: =托嬰中心30!B13 -> 0 | N31: =托嬰中心30!B14 -> 0 | O31: =托嬰中心30!B15 -> 0 | P31: =托嬰中心30!B16 -> 0 | Q31: =托嬰中心30!B17 -> 0 | R31: =托嬰中心30!B18 -> 0 | S31: =托嬰中心30!B19 -> 0 | T31: =托嬰中心30!B20 -> 0 | U31: =托嬰中心30!B21 -> 0 | V31: =托嬰中心30!B22 -> 0 | W31: =托嬰中心30!B23 -> 0 | X31: =托嬰中心30!B24 -> 0 | Y31: =托嬰中心30!B25 -> 0 | Z31: =托嬰中心30!B26 -> 0

Sheet 托嬰中心01
A1: 107年托嬰中心感染管制查核(輔導)結果暨應改善事項追蹤表
M2: 查核（輔導）日期：
A3: Step1-各縣市政府提供 | G3: Step2-托嬰中心填寫 | K3: Step3-各縣市政府填寫
A4: 縣(市) | B4: 受查機構名稱 | D4: 達成比率(%) | F4: 查核 (輔導) 結果 | G4: 執行狀況 | J4: 目前執行情形 （或尚未執行理由） | K4: 追蹤結果 | N4: 追踨情形
D5: 不符合 | E5: 符合 | G5: 已完成 | H5: 執行中 | I5: 未執行 | K5: 已完成 | L5: 執行中 | M5: 未執行
D6: =(COUNTIF(B8:B8,"不符合")+COUNTIF(B9:B12,"不符合")+COUNTIF(B13:B15,"不符合")+COUNTIF(B16:B18,"不符合")+COUNTIF(B19:B22,"不符合")+COUNTIF(B23:B24,"不符合")+COUNTIF(B25:B26,"不符合"))/(19-COUNTIF(B14,"不適用")) -> 0 | E6: =(COUNTIF(B8:B8,"符合")+COUNTIF(B9:B12,"符合")+COUNTIF(B13:B15,"符合")+COUNTIF(B16:B18,"符合")+COUNTIF(B19:B22,"符合")+COUNTIF(B23:B24,"符合")+COUNTIF(B25:B26,"符合"))/(19-COUNTIF(B14,"不適用")) -> 0 | F6: =IF(COUNTBLANK(B8:B26)>0,"",IF(E6>=0.6,"合格","不合格"))
A7: 查核項目 | B7: 評分等級 | C7: 應改善事項（符合、不適用項目免填） | G7: 若無應改善事項免填 | K7: 若無應改善事項免填
A8: 1-1 協助父母參照兒童健康手冊之內容，定期追蹤受託兒童健康檢查情形，且有紀錄。 | G8: □ | H8: □ | I8: □ | K8: □ | L8: □ | M8: □
A9: 2-1 宣導公費疫苗接種資訊，並鼓勵受托兒童及工作人員接種。 | G9: □ | H9: □ | I9: □ | K9: □ | L9: □ | M9: □
A10: 2-2 鼓勵工作人員接種麻疹、腮腺炎、德國麻疹(MMR)疫苗，並了解接種情形。 | G10: □ | H10: □ | I10: □ | K10: □ | L10: □ | M10: □
A11: 2-3 協助父母參照兒童健康手冊之內容，定期追蹤受托兒童預防接種情形，且有紀錄。 | G11: □ | H11: □ | I11: □ | K11: □ | L11: □ | M11: □
A12: 2-4 製作符合公費流感疫苗接種之受托兒童及工作人員名冊，載明施打情形，並紀錄未施打疫苗者之原因（如對蛋白質或疫苗其他成份過敏等)。 | G12: □ | H12: □ | I12: □ | K12: □ | L12: □ | M12: □
A13: 3-1 訂有員工感染管制教育訓練計畫，並依計畫辦理員工教育訓練及留存訓練證明文件備查。 | G13: □ | H13: □ | I13: □ | K13: □ | L13: □ | M13: □
A14: 3-2 新進員工應於到職後一個月內接受至少四小時感染管制課程。* | G14: □ | H14: □ | I14: □ | K14: □ | L14: □ | M14: □
A15: 3-3 在職員工每年應接受至少四小時感染管制課程，專責人員每年應接受至少八小時感染管制課程。 | G15: □ | H15: □ | I15: □ | K15: □ | L15: □ | M15: □
A16: 4-1 每週至少清潔、消毒機構內外環境（包括整個機構房室、活動區、用餐區等）1次且有紀錄（包括環境清消日期、區域、消毒藥品名稱及方式等）。 | G16: □ | H16: □ | I16: □ | K16: □ | L16: □ | M16: □
A17: 4-2 機構內具防蚊蟲設備。 | G17: □ | H17: □ | I17: □ | K17: □ | L17: □ | M17: □
A18: 4-3 清潔人員能正確配製漂白水濃度。 | G18: □ | H18: □ | I18: □ | K18: □ | L18: □ | M18: □
A19: 5-1 機構應指派符合資格之感染管制專責人員，負責推動機構內感染管制相關工作。 | G19: □ | H19: □ | I19: □ | K19: □ | L19: □ | M19: □
... A26: 7-2 機構發生疑似感染個案應有紀錄，如須由機構送醫，協助之工作人員應視需要配戴口罩、手套，做好個人防護。 | G26: □ | H26: □ | I26: □ | K26: □ | L26: □ | M26: □
A28: Step1-各縣市政府提供 | G28: Step2-托嬰中心填寫
A29: 其他建議： | G29: 參酌辦理情形 | J29: 說明
G30: 已完成 | H30: 執行中 | I30: 未參採
G31: □ | H31: □ | I31: □
G32: □ | H32: □ | I32: □
G33: □ | H33: □ | I33: □
G34: □ | H34: □ | I34: □
G35: □ | H35: □ | I35: □

Sheet 托嬰中心02
A1: 107年托嬰中心感染管制查核(輔導)結果暨應改善事項追蹤表
M2: 查核（輔導）日期：
A3: Step1-各縣市政府提供 | G3: Step2-托嬰中心填寫 | K3: Step3-各縣市政府填寫
A4: 縣(市) | B4: 受查機構名稱 | D4: 達成比率(%) | F4: 查核 (輔導) 結果 | G4: 執行狀況 | J4: 目前執行情形 （或尚未執行理由） | K4: 追蹤結果 | N4: 追踨情形
D5: 不符合 | E5: 符合 | G5: 已完成 | H5: 執行中 | I5: 未執行 | K5: 已完成 | L5: 執行中 | M5: 未執行
D6: =(COUNTIF(B8:B8,"不符合")+COUNTIF(B9:B12,"不符合")+COUNTIF(B13:B15,"不符合")+COUNTIF(B16:B18,"不符合")+COUNTIF(B19:B22,"不符合")+COUNTIF(B23:B24,"不符合")+COUNTIF(B25:B26,"不符合"))/(19-COUNTIF(B14,"不適用")) -> 0 | E6: =(COUNTIF(B8:B8,"符合")+COUNTIF(B9:B12,"符合")+COUNTIF(B13:B15,"符合")+COUNTIF(B16:B18,"符合")+COUNTIF(B19:B22,"符合")+COUNTIF(B23:B24,"符合")+COUNTIF(B25:B26,"符合"))/(19-COUNTIF(B14,"不適用")) -> 0 | F6: =IF(COUNTBLANK(B8:B26)>0,"",IF(E6>=0.6,"合格","不合格"))
A7: 查核項目 | B7: 評分等級 | C7: 應改善事項（符合、不適用項目免填） | G7: 若無應改善事項免填 | K7: 若無應改善事項免填
A8: 1-1 協助父母參照兒童健康手冊之內容，定期追蹤受託兒童健康檢查情形，且有紀錄。 | G8: □ | H8: □ | I8: □ | K8: □ | L8: □ | M8: □
A9: 2-1 宣導公費疫苗接種資訊，並鼓勵受托兒童及工作人員接種。 | G9: □ | H9: □ | I9: □ | K9: □ | L9: □ | M9: □
A10: 2-2 鼓勵工作人員接種麻疹、腮腺炎、德國麻疹(MMR)疫苗，並了解接種情形。 | G10: □ | H10: □ | I10: □ | K10: □ | L10: □ | M10: □
A11: 2-3 協助父母參照兒童健康手冊之內容，定期追蹤受托兒童預防接種情形，且有紀錄。 | G11: □ | H11: □ | I11: □ | K11: □ | L11: □ | M11: □
A12: 2-4 製作符合公費流感疫苗接種之受托兒童及工作人員名冊，載明施打情形，並紀錄未施打疫苗者之原因（如對蛋白質或疫苗其他成份過敏等)。 | G12: □ | H12: □ | I12: □ | K12: □ | L12: □ | M12: □
A13: 3-1 訂有員工感染管制教育訓練計畫，並依計畫辦理員工教育訓練及留存訓練證明文件備查。 | G13: □ | H13: □ | I13: □ | K13: □ | L13: □ | M13: □
A14: 3-2 新進員工應於到職後一個月內接受至少四小時感染管制課程。* | G14: □ | H14: □ | I14: □ | K14: □ | L14: □ | M14: □
A15: 3-3 在職員工每年應接受至少四小時感染管制課程，專責人員每年應接受至少八小時感染管制課程。 | G15: □ | H15: □ | I15: □ | K15: □ | L15: □ | M15: □
A16: 4-1 每週至少清潔、消毒機構內外環境（包括整個機構房室、活動區、用餐區等）1次且有紀錄（包括環境清消日期、區域、消毒藥品名稱及方式等）。 | G16: □ | H16: □ | I16: □ | K16: □ | L16: □ | M16: □
A17: 4-2 機構內具防蚊蟲設備。 | G17: □ | H17: □ | I17: □ | K17: □ | L17: □ | M17: □
A18: 4-3 清潔人員能正確配製漂白水濃度。 | G18: □ | H18: □ | I18: □ | K18: □ | L18: □ | M18: □
A19: 5-1 機構應指派符合資格之感染管制專責人員，負責推動機構內感染管制相關工作。 | G19: □ | H19: □ | I19: □ | K19: □ | L19: □ | M19: □
... A26: 7-2 機構發生疑似感染個案應有紀錄，如須由機構送醫，協助之工作人員應視需要配戴口罩、手套，做好個人防護。 | G26: □ | H26: □ | I26: □ | K26: □ | L26: □ | M26: □
A28: Step1-各縣市政府提供 | G28: Step2-托嬰中心填寫
A29: 其他建議： | G29: 參酌辦理情形 | J29: 說明
G30: 已完成 | H30: 執行中 | I30: 未參採
G31: □ | H31: □ | I31: □
G32: □ | H32: □ | I32: □
G33: □ | H33: □ | I33: □
G34: □ | H34: □ | I34: □
G35: □ | H35: □ | I35: □

Sheet 托嬰中心03
A1: 107年托嬰中心感染管制查核(輔導)結果暨應改善事項追蹤表
M2: 查核（輔導）日期：
A3: Step1-各縣市政府提供 | G3: Step2-托嬰中心填寫 | K3: Step3-各縣市政府填寫
A4: 縣(市) | B4: 受查機構名稱 | D4: 達成比率(%) | F4: 查核 (輔導) 結果 | G4: 執行狀況 | J4: 目前執行情形 （或尚未執行理由） | K4: 追蹤結果 | N4: 追踨情形
D5: 不符合 | E5: 符合 | G5: 已完成 | H5: 執行中 | I5: 未執行 | K5: 已完成 | L5: 執行中 | M5: 未執行
D6: =(COUNTIF(B8:B8,"不符合")+COUNTIF(B9:B12,"不符合")+COUNTIF(B13:B15,"不符合")+COUNTIF(B16:B18,"不符合")+COUNTIF(B19:B22,"不符合")+COUNTIF(B23:B24,"不符合")+COUNTIF(B25:B26,"不符合"))/(19-COUNTIF(B14,"不適用")) -> 0 | E6: =(COUNTIF(B8:B8,"符合")+COUNTIF(B9:B12,"符合")+COUNTIF(B13:B15,"符合")+COUNTIF(B16:B18,"符合")+COUNTIF(B19:B22,"符合")+COUNTIF(B23:B24,"符合")+COUNTIF(B25:B26,"符合"))/(19-COUNTIF(B14,"不適用")) -> 0 | F6: =IF(COUNTBLANK(B8:B26)>0,"",IF(E6>=0.6,"合格","不合格"))
A7: 查核項目 | B7: 評分等級 | C7: 應改善事項（符合、不適用項目免填） | G7: 若無應改善事項免填 | K7: 若無應改善事項免填
A8: 1-1 協助父母參照兒童健康手冊之內容，定期追蹤受託兒童健康檢查情形，且有紀錄。 | G8: □ | H8: □ | I8: □ | K8: □ | L8: □ | M8: □
A9: 2-1 宣導公費疫苗接種資訊，並鼓勵受托兒童及工作人員接種。 | G9: □ | H9: □ | I9: □ | K9: □ | L9: □ | M9: □
A10: 2-2 鼓勵工作人員接種麻疹、腮腺炎、德國麻疹(MMR)疫苗，並了解接種情形。 | G10: □ | H10: □ | I10: □ | K10: □ | L10: □ | M10: □
A11: 2-3 協助父母參照兒童健康手冊之內容，定期追蹤受托兒童預防接種情形，且有紀錄。 | G11: □ | H11: □ | I11: □ | K11: □ | L11: □ | M11: □
A12: 2-4 製作符合公費流感疫苗接種之受托兒童及工作人員名冊，載明施打情形，並紀錄未施打疫苗者之原因（如對蛋白質或疫苗其他成份過敏等)。 | G12: □ | H12: □ | I12: □ | K12: □ | L12: □ | M12: □
A13: 3-1 訂有員工感染管制教育訓練計畫，並依計畫辦理員工教育訓練及留存訓練證明文件備查。 | G13: □ | H13: □ | I13: □ | K13: □ | L13: □ | M13: □
A14: 3-2 新進員工應於到職後一個月內接受至少四小時感染管制課程。* | G14: □ | H14: □ | I14: □ | K14: □ | L14: □ | M14: □
A15: 3-3 在職員工每年應接受至少四小時感染管制課程，專責人員每年應接受至少八小時感染管制課程。 | G15: □ | H15: □ | I15: □ | K15: □ | L15: □ | M15: □
A16: 4-1 每週至少清潔、消毒機構內外環境（包括整個機構房室、活動區、用餐區等）1次且有紀錄（包括環境清消日期、區域、消毒藥品名稱及方式等）。 | G16: □ | H16: □ | I16: □ | K16: □ | L16: □ | M16: □
A17: 4-2 機構內具防蚊蟲設備。 | G17: □ | H17: □ | I17: □ | K17: □ | L17: □ | M17: □
A18: 4-3 清潔人員能正確配製漂白水濃度。 | G18: □ | H18: □ | I18: □ | K18: □ | L18: □ | M18: □
A19: 5-1 機構應指派符合資格之感染管制專責人員，負責推動機構內感染管制相關工作。 | G19: □ | H19: □ | I19: □ | K19: □ | L19: □ | M19: □
... A26: 7-2 機構發生疑似感染個案應有紀錄，如須由機構送醫，協助之工作人員應視需要配戴口罩、手套，做好個人防護。 | G26: □ | H26: □ | I26: □ | K26: □ | L26: □ | M26: □
A28: Step1-各縣市政府提供 | G28: Step2-托嬰中心填寫
A29: 其他建議： | G29: 參酌辦理情形 | J29: 說明
G30: 已完成 | H30: 執行中 | I30: 未參採
G31: □ | H31: □ | I31: □
G32: □ | H32: □ | I32: □
G33: □ | H33: □ | I33: □
G34: □ | H34: □ | I34: □
G35: □ | H35: □ | I35: □

Sheet 托嬰中心04
A1: 107年托嬰中心感染管制查核(輔導)結果暨應改善事項追蹤表
M2: 查核（輔導）日期：
A3: Step1-各縣市政府提供 | G3: Step2-托嬰中心填寫 | K3: Step3-各縣市政府填寫
A4: 縣(市) | B4: 受查機構名稱 | D4: 達成比率(%) | F4: 查核 (輔導) 結果 | G4: 執行狀況 | J4: 目前執行情形 （或尚未執行理由） | K4: 追蹤結果 | N4: 追踨情形
D5: 不符合 | E5: 符合 | G5: 已完成 | H5: 執行中 | I5: 未執行 | K5: 已完成 | L5: 執行中 | M5: 未執行
D6: =(COUNTIF(B8:B8,"不符合")+COUNTIF(B9:B12,"不符合")+COUNTIF(B13:B15,"不符合")+COUNTIF(B16:B18,"不符合")+COUNTIF(B19:B22,"不符合")+COUNTIF(B23:B24,"不符合")+COUNTIF(B25:B26,"不符合"))/(19-COUNTIF(B14,"不適用")) -> 0 | E6: =(COUNTIF(B8:B8,"符合")+COUNTIF(B9:B12,"符合")+COUNTIF(B13:B15,"符合")+COUNTIF(B16:B18,"符合")+COUNTIF(B19:B22,"符合")+COUNTIF(B23:B24,"符合")+COUNTIF(B25:B26,"符合"))/(19-COUNTIF(B14,"不適用")) -> 0 | F6: =IF(COUNTBLANK(B8:B26)>0,"",IF(E6>=0.6,"合格","不合格"))
A7: 查核項目 | B7: 評分等級 | C7: 應改善事項（符合、不適用項目免填） | G7: 若無應改善事項免填 | K7: 若無應改善事項免填
A8: 1-1 協助父母參照兒童健康手冊之內容，定期追蹤受託兒童健康檢查情形，且有紀錄。 | G8: □ | H8: □ | I8: □ | K8: □ | L8: □ | M8: □
A9: 2-1 宣導公費疫苗接種資訊，並鼓勵受托兒童及工作人員接種。 | G9: □ | H9: □ | I9: □ | K9: □ | L9: □ | M9: □
A10: 2-2 鼓勵工作人員接種麻疹、腮腺炎、德國麻疹(MMR)疫苗，並了解接種情形。 | G10: □ | H10: □ | I10: □ | K10: □ | L10: □ | M10: □
A11: 2-3 協助父母參照兒童健康手冊之內容，定期追蹤受托兒童預防接種情形，且有紀錄。 | G11: □ | H11: □ | I11: □ | K11: □ | L11: □ | M11: □
A12: 2-4 製作符合公費流感疫苗接種之受托兒童及工作人員名冊，載明施打情形，並紀錄未施打疫苗者之原因（如對蛋白質或疫苗其他成份過敏等)。 | G12: □ | H12: □ | I12: □ | K12: □ | L12: □ | M12: □
A13: 3-1 訂有員工感染管制教育訓練計畫，並依計畫辦理員工教育訓練及留存訓練證明文件備查。 | G13: □ | H13: □ | I13: □ | K13: □ | L13: □ | M13: □
A14: 3-2 新進員工應於到職後一個月內接受至少四小時感染管制課程。* | G14: □ | H14: □ | I14: □ | K14: □ | L14: □ | M14: □
A15: 3-3 在職員工每年應接受至少四小時感染管制課程，專責人員每年應接受至少八小時感染管制課程。 | G15: □ | H15: □ | I15: □ | K15: □ | L15: □ | M15: □
A16: 4-1 每週至少清潔、消毒機構內外環境（包括整個機構房室、活動區、用餐區等）1次且有紀錄（包括環境清消日期、區域、消毒藥品名稱及方式等）。 | G16: □ | H16: □ | I16: □ | K16: □ | L16: □ | M16: □
A17: 4-2 機構內具防蚊蟲設備。 | G17: □ | H17: □ | I17: □ | K17: □ | L17: □ | M17: □
A18: 4-3 清潔人員能正確配製漂白水濃度。 | G18: □ | H18: □ | I18: □ | K18: □ | L18: □ | M18: □
A19: 5-1 機構應指派符合資格之感染管制專責人員，負責推動機構內感染管制相關工作。 | G19: □ | H19: □ | I19: □ | K19: □ | L19: □ | M19: □
... A26: 7-2 機構發生疑似感染個案應有紀錄，如須由機構送醫，協助之工作人員應視需要配戴口罩、手套，做好個人防護。 | G26: □ | H26: □ | I26: □ | K26: □ | L26: □ | M26: □
A28: Step1-各縣市政府提供 | G28: Step2-托嬰中心填寫
A29: 其他建議： | G29: 參酌辦理情形 | J29: 說明
G30: 已完成 | H30: 執行中 | I30: 未參採
G31: □ | H31: □ | I31: □
G32: □ | H32: □ | I32: □
G33: □ | H33: □ | I33: □
G34: □ | H34: □ | I34: □
G35: □ | H35: □ | I35: □

Sheet 托嬰中心05
A1: 107年托嬰中心感染管制查核(輔導)結果暨應改善事項追蹤表
M2: 查核（輔導）日期：
A3: Step1-各縣市政府提供 | G3: Step2-托嬰中心填寫 | K3: Step3-各縣市政府填寫
A4: 縣(市) | B4: 受查機構名稱 | D4: 達成比率(%) | F4: 查核 (輔導) 結果 | G4: 執行狀況 | J4: 目前執行情形 （或尚未執行理由） | K4: 追蹤結果 | N4: 追踨情形
D5: 不符合 | E5: 符合 | G5: 已完成 | H5: 執行中 | I5: 未執行 | K5: 已完成 | L5: 執行中 | M5: 未執行
D6: =(COUNTIF(B8:B8,"不符合")+COUNTIF(B9:B12,"不符合")+COUNTIF(B13:B15,"不符合")+COUNTIF(B16:B18,"不符合")+COUNTIF(B19:B22,"不符合")+COUNTIF(B23:B24,"不符合")+COUNTIF(B25:B26,"不符合"))/(19-COUNTIF(B14,"不適用")) -> 0 | E6: =(COUNTIF(B8:B8,"符合")+COUNTIF(B9:B12,"符合")+COUNTIF(B13:B15,"符合")+COUNTIF(B16:B18,"符合")+COUNTIF(B19:B22,"符合")+COUNTIF(B23:B24,"符合")+COUNTIF(B25:B26,"符合"))/(19-COUNTIF(B14,"不適用")) -> 0 | F6: =IF(COUNTBLANK(B8:B26)>0,"",IF(E6>=0.6,"合格","不合格"))
A7: 查核項目 | B7: 評分等級 | C7: 應改善事項（符合、不適用項目免填） | G7: 若無應改善事項免填 | K7: 若無應改善事項免填
A8: 1-1 協助父母參照兒童健康手冊之內容，定期追蹤受託兒童健康檢查情形，且有紀錄。 | G8: □ | H8: □ | I8: □ | K8: □ | L8: □ | M8: □
A9: 2-1 宣導公費疫苗接種資訊，並鼓勵受托兒童及工作人員接種。 | G9: □ | H9: □ | I9: □ | K9: □ | L9: □ | M9: □
A10: 2-2 鼓勵工作人員接種麻疹、腮腺炎、德國麻疹(MMR)疫苗，並了解接種情形。 | G10: □ | H10: □ | I10: □ | K10: □ | L10: □ | M10: □
A11: 2-3 協助父母參照兒童健康手冊之內容，定期追蹤受托兒童預防接種情形，且有紀錄。 | G11: □ | H11: □ | I11: □ | K11: □ | L11: □ | M11: □
A12: 2-4 製作符合公費流感疫苗接種之受托兒童及工作人員名冊，載明施打情形，並紀錄未施打疫苗者之原因（如對蛋白質或疫苗其他成份過敏等)。 | G12: □ | H12: □ | I12: □ | K12: □ | L12: □ | M12: □
A13: 3-1 訂有員工感染管制教育訓練計畫，並依計畫辦理員工教育訓練及留存訓練證明文件備查。 | G13: □ | H13: □ | I13: □ | K13: □ | L13: □ | M13: □
A14: 3-2 新進員工應於到職後一個月內接受至少四小時感染管制課程。* | G14: □ | H14: □ | I14: □ | K14: □ | L14: □ | M14: □
A15: 3-3 在職員工每年應接受至少四小時感染管制課程，專責人員每年應接受至少八小時感染管制課程。 | G15: □ | H15: □ | I15: □ | K15: □ | L15: □ | M15: □
A16: 4-1 每週至少清潔、消毒機構內外環境（包括整個機構房室、活動區、用餐區等）1次且有紀錄（包括環境清消日期、區域、消毒藥品名稱及方式等）。 | G16: □ | H16: □ | I16: □ | K16: □ | L16: □ | M16: □
A17: 4-2 機構內具防蚊蟲設備。 | G17: □ | H17: □ | I17: □ | K17: □ | L17: □ | M17: □
A18: 4-3 清潔人員能正確配製漂白水濃度。 | G18: □ | H18: □ | I18: □ | K18: □ | L18: □ | M18: □
A19: 5-1 機構應指派符合資格之感染管制專責人員，負責推動機構內感染管制相關工作。 | G19: □ | H19: □ | I19: □ | K19: □ | L19: □ | M19: □
... A26: 7-2 機構發生疑似感染個案應有紀錄，如須由機構送醫，協助之工作人員應視需要配戴口罩、手套，做好個人防護。 | G26: □ | H26: □ | I26: □ | K26: □ | L26: □ | M26: □
A28: Step1-各縣市政府提供 | G28: Step2-托嬰中心填寫
A29: 其他建議： | G29: 參酌辦理情形 | J29: 說明
G30: 已完成 | H30: 執行中 | I30: 未參採
G31: □ | H31: □ | I31: □
G32: □ | H32: □ | I32: □
G33: □ | H33: □ | I33: □
G34: □ | H34: □ | I34: □
G35: □ | H35: □ | I35: □

Sheet 托嬰中心06
A1: 107年托嬰中心感染管制查核(輔導)結果暨應改善事項追蹤表
M2: 查核（輔導）日期：
A3: Step1-各縣市政府提供 | G3: Step2-托嬰中心填寫 | K3: Step3-各縣市政府填寫
A4: 縣(市) | B4: 受查機構名稱 | D4: 達成比率(%) | F4: 查核 (輔導) 結果 | G4: 執行狀況 | J4: 目前執行情形 （或尚未執行理由） | K4: 追蹤結果 | N4: 追踨情形
D5: 不符合 | E5: 符合 | G5: 已完成 | H5: 執行中 | I5: 未執行 | K5: 已完成 | L5: 執行中 | M5: 未執行
D6: =(COUNTIF(B8:B8,"不符合")+COUNTIF(B9:B12,"不符合")+COUNTIF(B13:B15,"不符合")+COUNTIF(B16:B18,"不符合")+COUNTIF(B19:B22,"不符合")+COUNTIF(B23:B24,"不符合")+COUNTIF(B25:B26,"不符合"))/(19-COUNTIF(B14,"不適用")) -> 0 | E6: =(COUNTIF(B8:B8,"符合")+COUNTIF(B9:B12,"符合")+COUNTIF(B13:B15,"符合")+COUNTIF(B16:B18,"符合")+COUNTIF(B19:B22,"符合")+COUNTIF(B23:B24,"符合")+COUNTIF(B25:B26,"符合"))/(19-COUNTIF(B14,"不適用")) -> 0 | F6: =IF(COUNTBLANK(B8:B26)>0,"",IF(E6>=0.6,"合格","不合格"))
A7: 查核項目 | B7: 評分等級 | C7: 應改善事項（符合、不適用項目免填） | G7: 若無應改善事項免填 | K7: 若無應改善事項免填
A8: 1-1 協助父母參照兒童健康手冊之內容，定期追蹤受託兒童健康檢查情形，且有紀錄。 | G8: □ | H8: □ | I8: □ | K8: □ | L8: □ | M8: □
A9: 2-1 宣導公費疫苗接種資訊，並鼓勵受托兒童及工作人員接種。 | G9: □ | H9: □ | I9: □ | K9: □ | L9: □ | M9: □
A10: 2-2 鼓勵工作人員接種麻疹、腮腺炎、德國麻疹(MMR)疫苗，並了解接種情形。 | G10: □ | H10: □ | I10: □ | K10: □ | L10: □ | M10: □
A11: 2-3 協助父母參照兒童健康手冊之內容，定期追蹤受托兒童預防接種情形，且有紀錄。 | G11: □ | H11: □ | I11: □ | K11: □ | L11: □ | M11: □
A12: 2-4 製作符合公費流感疫苗接種之受托兒童及工作人員名冊，載明施打情形，並紀錄未施打疫苗者之原因（如對蛋白質或疫苗其他成份過敏等)。 | G12: □ | H12: □ | I12: □ | K12: □ | L12: □ | M12: □
A13: 3-1 訂有員工感染管制教育訓練計畫，並依計畫辦理員工教育訓練及留存訓練證明文件備查。 | G13: □ | H13: □ | I13: □ | K13: □ | L13: □ | M13: □
A14: 3-2 新進員工應於到職後一個月內接受至少四小時感染管制課程。* | G14: □ | H14: □ | I14: □ | K14: □ | L14: □ | M14: □
A15: 3-3 在職員工每年應接受至少四小時感染管制課程，專責人員每年應接受至少八小時感染管制課程。 | G15: □ | H15: □ | I15: □ | K15: □ | L15: □ | M15: □
A16: 4-1 每週至少清潔、消毒機構內外環境（包括整個機構房室、活動區、用餐區等）1次且有紀錄（包括環境清消日期、區域、消毒藥品名稱及方式等）。 | G16: □ | H16: □ | I16: □ | K16: □ | L16: □ | M16: □
A17: 4-2 機構內具防蚊蟲設備。 | G17: □ | H17: □ | I17: □ | K17: □ | L17: □ | M17: □
A18: 4-3 清潔人員能正確配製漂白水濃度。 | G18: □ | H18: □ | I18: □ | K18: □ | L18: □ | M18: □
A19: 5-1 機構應指派符合資格之感染管制專責人員，負責推動機構內感染管制相關工作。 | G19: □ | H19: □ | I19: □ | K19: □ | L19: □ | M19: □
... A26: 7-2 機構發生疑似感染個案應有紀錄，如須由機構送醫，協助之工作人員應視需要配戴口罩、手套，做好個人防護。 | G26: □ | H26: □ | I26: □ | K26: □ | L26: □ | M26: □
A28: Step1-各縣市政府提供 | G28: Step2-托嬰中心填寫
A29: 其他建議： | G29: 參酌辦理情形 | J29: 說明
G30: 已完成 | H30: 執行中 | I30: 未參採
G31: □ | H31: □ | I31: □
G32: □ | H32: □ | I32: □
G33: □ | H33: □ | I33: □
G34: □ | H34: □ | I34: □
G35: □ | H35: □ | I35: □

Sheet 托嬰中心07
A1: 107年托嬰中心感染管制查核(輔導)結果暨應改善事項追蹤表
M2: 查核（輔導）日期：
A3: Step1-各縣市政府提供 | G3: Step2-托嬰中心填寫 | K3: Step3-各縣市政府填寫
A4: 縣(市) | B4: 受查機構名稱 | D4: 達成比率(%) | F4: 查核 (輔導) 結果 | G4: 執行狀況 | J4: 目前執行情形 （或尚未執行理由） | K4: 追蹤結果 | N4: 追踨情形
D5: 不符合 | E5: 符合 | G5: 已完成 | H5: 執行中 | I5: 未執行 | K5: 已完成 | L5: 執行中 | M5: 未執行
D6: =(COUNTIF(B8:B8,"不符合")+COUNTIF(B9:B12,"不符合")+COUNTIF(B13:B15,"不符合")+COUNTIF(B16:B18,"不符合")+COUNTIF(B19:B22,"不符合")+COUNTIF(B23:B24,"不符合")+COUNTIF(B25:B26,"不符合"))/(19-COUNTIF(B14,"不適用")) -> 0 | E6: =(COUNTIF(B8:B8,"符合")+COUNTIF(B9:B12,"符合")+COUNTIF(B13:B15,"符合")+COUNTIF(B16:B18,"符合")+COUNTIF(B19:B22,"符合")+COUNTIF(B23:B24,"符合")+COUNTIF(B25:B26,"符合"))/(19-COUNTIF(B14,"不適用")) -> 0 | F6: =IF(COUNTBLANK(B8:B26)>0,"",IF(E6>=0.6,"合格","不合格"))
A7: 查核項目 | B7: 評分等級 | C7: 應改善事項（符合、不適用項目免填） | G7: 若無應改善事項免填 | K7: 若無應改善事項免填
A8: 1-1 協助父母參照兒童健康手冊之內容，定期追蹤受託兒童健康檢查情形，且有紀錄。 | G8: □ | H8: □ | I8: □ | K8: □ | L8: □ | M8: □
A9: 2-1 宣導公費疫苗接種資訊，並鼓勵受托兒童及工作人員接種。 | G9: □ | H9: □ | I9: □ | K9: □ | L9: □ | M9: □
A10: 2-2 鼓勵工作人員接種麻疹、腮腺炎、德國麻疹(MMR)疫苗，並了解接種情形。 | G10: □ | H10: □ | I10: □ | K10: □ | L10: □ | M10: □
A11: 2-3 協助父母參照兒童健康手冊之內容，定期追蹤受托兒童預防接種情形，且有紀錄。 | G11: □ | H11: □ | I11: □ | K11: □ | L11: □ | M11: □
A12: 2-4 製作符合公費流感疫苗接種之受托兒童及工作人員名冊，載明施打情形，並紀錄未施打疫苗者之原因（如對蛋白質或疫苗其他成份過敏等)。 | G12: □ | H12: □ | I12: □ | K12: □ | L12: □ | M12: □
A13: 3-1 訂有員工感染管制教育訓練計畫，並依計畫辦理員工教育訓練及留存訓練證明文件備查。 | G13: □ | H13: □ | I13: □ | K13: □ | L13: □ | M13: □
A14: 3-2 新進員工應於到職後一個月內接受至少四小時感染管制課程。* | G14: □ | H14: □ | I14: □ | K14: □ | L14: □ | M14: □
A15: 3-3 在職員工每年應接受至少四小時感染管制課程，專責人員每年應接受至少八小時感染管制課程。 | G15: □ | H15: □ | I15: □ | K15: □ | L15: □ | M15: □
A16: 4-1 每週至少清潔、消毒機構內外環境（包括整個機構房室、活動區、用餐區等）1次且有紀錄（包括環境清消日期、區域、消毒藥品名稱及方式等）。 | G16: □ | H16: □ | I16: □ | K16: □ | L16: □ | M16: □
A17: 4-2 機構內具防蚊蟲設備。 | G17: □ | H17: □ | I17: □ | K17: □ | L17: □ | M17: □
A18: 4-3 清潔人員能正確配製漂白水濃度。 | G18: □ | H18: □ | I18: □ | K18: □ | L18: □ | M18: □
A19: 5-1 機構應指派符合資格之感染管制專責人員，負責推動機構內感染管制相關工作。 | G19: □ | H19: □ | I19: □ | K19: □ | L19: □ | M19: □
... A26: 7-2 機構發生疑似感染個案應有紀錄，如須由機構送醫，協助之工作人員應視需要配戴口罩、手套，做好個人防護。 | G26: □ | H26: □ | I26: □ | K26: □ | L26: □ | M26: □
A28: Step1-各縣市政府提供 | G28: Step2-托嬰中心填寫
A29: 其他建議： | G29: 參酌辦理情形 | J29: 說明
G30: 已完成 | H30: 執行中 | I30: 未參採
G31: □ | H31: □ | I31: □
G32: □ | H32: □ | I32: □
G33: □ | H33: □ | I33: □
G34: □ | H34: □ | I34: □
G35: □ | H35: □ | I35: □

Sheet 托嬰中心08
A1: 107年托嬰中心感染管制查核(輔導)結果暨應改善事項追蹤表
M2: 查核（輔導）日期：
A3: Step1-各縣市政府提供 | G3: Step2-托嬰中心填寫 | K3: Step3-各縣市政府填寫
A4: 縣(市) | B4: 受查機構名稱 | D4: 達成比率(%) | F4: 查核 (輔導) 結果 | G4: 執行狀況 | J4: 目前執行情形 （或尚未執行理由） | K4: 追蹤結果 | N4: 追踨情形
D5: 不符合 | E5: 符合 | G5: 已完成 | H5: 執行中 | I5: 未執行 | K5: 已完成 | L5: 執行中 | M5: 未執行
D6: =(COUNTIF(B8:B8,"不符合")+COUNTIF(B9:B12,"不符合")+COUNTIF(B13:B15,"不符合")+COUNTIF(B16:B18,"不符合")+COUNTIF(B19:B22,"不符合")+COUNTIF(B23:B24,"不符合")+COUNTIF(B25:B26,"不符合"))/(19-COUNTIF(B14,"不適用")) -> 0 | E6: =(COUNTIF(B8:B8,"符合")+COUNTIF(B9:B12,"符合")+COUNTIF(B13:B15,"符合")+COUNTIF(B16:B18,"符合")+COUNTIF(B19:B22,"符合")+COUNTIF(B23:B24,"符合")+COUNTIF(B25:B26,"符合"))/(19-COUNTIF(B14,"不適用")) -> 0 | F6: =IF(COUNTBLANK(B8:B26)>0,"",IF(E6>=0.6,"合格","不合格"))
A7: 查核項目 | B7: 評分等級 | C7: 應改善事項（符合、不適用項目免填） | G7: 若無應改善事項免填 | K7: 若無應改善事項免填
A8: 1-1 協助父母參照兒童健康手冊之內容，定期追蹤受託兒童健康檢查情形，且有紀錄。 | G8: □ | H8: □ | I8: □ | K8: □ | L8: □ | M8: □
A9: 2-1 宣導公費疫苗接種資訊，並鼓勵受托兒童及工作人員接種。 | G9: □ | H9: □ | I9: □ | K9: □ | L9: □ | M9: □
A10: 2-2 鼓勵工作人員接種麻疹、腮腺炎、德國麻疹(MMR)疫苗，並了解接種情形。 | G10: □ | H10: □ | I10: □ | K10: □ | L10: □ | M10: □
A11: 2-3 協助父母參照兒童健康手冊之內容，定期追蹤受托兒童預防接種情形，且有紀錄。 | G11: □ | H11: □ | I11: □ | K11: □ | L11: □ | M11: □
A12: 2-4 製作符合公費流感疫苗接種之受托兒童及工作人員名冊，載明施打情形，並紀錄未施打疫苗者之原因（如對蛋白質或疫苗其他成份過敏等)。 | G12: □ | H12: □ | I12: □ | K12: □ | L12: □ | M12: □
A13: 3-1 訂有員工感染管制教育訓練計畫，並依計畫辦理員工教育訓練及留存訓練證明文件備查。 | G13: □ | H13: □ | I13: □ | K13: □ | L13: □ | M13: □
A14: 3-2 新進員工應於到職後一個月內接受至少四小時感染管制課程。* | G14: □ | H14: □ | I14: □ | K14: □ | L14: □ | M14: □
A15: 3-3 在職員工每年應接受至少四小時感染管制課程，專責人員每年應接受至少八小時感染管制課程。 | G15: □ | H15: □ | I15: □ | K15: □ | L15: □ | M15: □
A16: 4-1 每週至少清潔、消毒機構內外環境（包括整個機構房室、活動區、用餐區等）1次且有紀錄（包括環境清消日期、區域、消毒藥品名稱及方式等）。 | G16: □ | H16: □ | I16: □ | K16: □ | L16: □ | M16: □
A17: 4-2 機構內具防蚊蟲設備。 | G17: □ | H17: □ | I17: □ | K17: □ | L17: □ | M17: □
A18: 4-3 清潔人員能正確配製漂白水濃度。 | G18: □ | H18: □ | I18: □ | K18: □ | L18: □ | M18: □
A19: 5-1 機構應指派符合資格之感染管制專責人員，負責推動機構內感染管制相關工作。 | G19: □ | H19: □ | I19: □ | K19: □ | L19: □ | M19: □
... A26: 7-2 機構發生疑似感染個案應有紀錄，如須由機構送醫，協助之工作人員應視需要配戴口罩、手套，做好個人防護。 | G26: □ | H26: □ | I26: □ | K26: □ | L26: □ | M26: □
A28: Step1-各縣市政府提供 | G28: Step2-托嬰中心填寫
A29: 其他建議： | G29: 參酌辦理情形 | J29: 說明
G30: 已完成 | H30: 執行中 | I30: 未參採
G31: □ | H31: □ | I31: □
G32: □ | H32: □ | I32: □
G33: □ | H33: □ | I33: □
G34: □ | H34: □ | I34: □
G35: □ | H35: □ | I35: □

Sheet 托嬰中心09
A1: 107年托嬰中心感染管制查核(輔導)結果暨應改善事項追蹤表
M2: 查核（輔導）日期：
A3: Step1-各縣市政府提供 | G3: Step2-托嬰中心填寫 | K3: Step3-各縣市政府填寫
A4: 縣(市) | B4: 受查機構名稱 | D4: 達成比率(%) | F4: 查核 (輔導) 結果 | G4: 執行狀況 | J4: 目前執行情形 （或尚未執行理由） | K4: 追蹤結果 | N4: 追踨情形
D5: 不符合 | E5: 符合 | G5: 已完成 | H5: 執行中 | I5: 未執行 | K5: 已完成 | L5: 執行中 | M5: 未執行
D6: =(COUNTIF(B8:B8,"不符合")+COUNTIF(B9:B12,"不符合")+COUNTIF(B13:B15,"不符合")+COUNTIF(B16:B18,"不符合")+COUNTIF(B19:B22,"不符合")+COUNTIF(B23:B24,"不符合")+COUNTIF(B25:B26,"不符合"))/(19-COUNTIF(B14,"不適用")) -> 0 | E6: =(COUNTIF(B8:B8,"符合")+COUNTIF(B9:B12,"符合")+COUNTIF(B13:B15,"符合")+COUNTIF(B16:B18,"符合")+COUNTIF(B19:B22,"符合")+COUNTIF(B23:B24,"符合")+COUNTIF(B25:B26,"符合"))/(19-COUNTIF(B14,"不適用")) -> 0 | F6: =IF(COUNTBLANK(B8:B26)>0,"",IF(E6>=0.6,"合格","不合格"))
A7: 查核項目 | B7: 評分等級 | C7: 應改善事項（符合、不適用項目免填） | G7: 若無應改善事項免填 | K7: 若無應改善事項免填
A8: 1-1 協助父母參照兒童健康手冊之內容，定期追蹤受託兒童健康檢查情形，且有紀錄。 | G8: □ | H8: □ | I8: □ | K8: □ | L8: □ | M8: □
A9: 2-1 宣導公費疫苗接種資訊，並鼓勵受托兒童及工作人員接種。 | G9: □ | H9: □ | I9: □ | K9: □ | L9: □ | M9: □
A10: 2-2 鼓勵工作人員接種麻疹、腮腺炎、德國麻疹(MMR)疫苗，並了解接種情形。 | G10: □ | H10: □ | I10: □ | K10: □ | L10: □ | M10: □
A11: 2-3 協助父母參照兒童健康手冊之內容，定期追蹤受托兒童預防接種情形，且有紀錄。 | G11: □ | H11: □ | I11: □ | K11: □ | L11: □ | M11: □
A12: 2-4 製作符合公費流感疫苗接種之受托兒童及工作人員名冊，載明施打情形，並紀錄未施打疫苗者之原因（如對蛋白質或疫苗其他成份過敏等)。 | G12: □ | H12: □ | I12: □ | K12: □ | L12: □ | M12: □
A13: 3-1 訂有員工感染管制教育訓練計畫，並依計畫辦理員工教育訓練及留存訓練證明文件備查。 | G13: □ | H13: □ | I13: □ | K13: □ | L13: □ | M13: □
A14: 3-2 新進員工應於到職後一個月內接受至少四小時感染管制課程。* | G14: □ | H14: □ | I14: □ | K14: □ | L14: □ | M14: □
A15: 3-3 在職員工每年應接受至少四小時感染管制課程，專責人員每年應接受至少八小時感染管制課程。 | G15: □ | H15: □ | I15: □ | K15: □ | L15: □ | M15: □
A16: 4-1 每週至少清潔、消毒機構內外環境（包括整個機構房室、活動區、用餐區等）1次且有紀錄（包括環境清消日期、區域、消毒藥品名稱及方式等）。 | G16: □ | H16: □ | I16: □ | K16: □ | L16: □ | M16: □
A17: 4-2 機構內具防蚊蟲設備。 | G17: □ | H17: □ | I17: □ | K17: □ | L17: □ | M17: □
A18: 4-3 清潔人員能正確配製漂白水濃度。 | G18: □ | H18: □ | I18: □ | K18: □ | L18: □ | M18: □
A19: 5-1 機構應指派符合資格之感染管制專責人員，負責推動機構內感染管制相關工作。 | G19: □ | H19: □ | I19: □ | K19: □ | L19: □ | M19: □
... A26: 7-2 機構發生疑似感染個案應有紀錄，如須由機構送醫，協助之工作人員應視需要配戴口罩、手套，做好個人防護。 | G26: □ | H26: □ | I26: □ | K26: □ | L26: □ | M26: □
A28: Step1-各縣市政府提供 | G28: Step2-托嬰中心填寫
A29: 其他建議： | G29: 參酌辦理情形 | J29: 說明
G30: 已完成 | H30: 執行中 | I30: 未參採
G31: □ | H31: □ | I31: □
G32: □ | H32: □ | I32: □
G33: □ | H33: □ | I33: □
G34: □ | H34: □ | I34: □
G35: □ | H35: □ | I35: □

Sheet 托嬰中心10
A1: 107年托嬰中心感染管制查核(輔導)結果暨應改善事項追蹤表
M2: 查核（輔導）日期：
A3: Step1-各縣市政府提供 | G3: Step2-托嬰中心填寫 | K3: Step3-各縣市政府填寫
A4: 縣(市) | B4: 受查機構名稱 | D4: 達成比率(%) | F4: 查核 (輔導) 結果 | G4: 執行狀況 | J4: 目前執行情形 （或尚未執行理由） | K4: 追蹤結果 | N4: 追踨情形
D5: 不符合 | E5: 符合 | G5: 已完成 | H5: 執行中 | I5: 未執行 | K5: 已完成 | L5: 執行中 | M5: 未執行
D6: =(COUNTIF(B8:B8,"不符合")+COUNTIF(B9:B12,"不符合")+COUNTIF(B13:B15,"不符合")+COUNTIF(B16:B18,"不符合")+COUNTIF(B19:B22,"不符合")+COUNTIF(B23:B24,"不符合")+COUNTIF(B25:B26,"不符合"))/(19-COUNTIF(B14,"不適用")) -> 0 | E6: =(COUNTIF(B8:B8,"符合")+COUNTIF(B9:B12,"符合")+COUNTIF(B13:B15,"符合")+COUNTIF(B16:B18,"符合")+COUNTIF(B19:B22,"符合")+COUNTIF(B23:B24,"符合")+COUNTIF(B25:B26,"符合"))/(19-COUNTIF(B14,"不適用")) -> 0 | F6: =IF(COUNTBLANK(B8:B26)>0,"",IF(E6>=0.6,"合格","不合格"))
A7: 查核項目 | B7: 評分等級 | C7: 應改善事項（符合、不適用項目免填） | G7: 若無應改善事項免填 | K7: 若無應改善事項免填
A8: 1-1 協助父母參照兒童健康手冊之內容，定期追蹤受託兒童健康檢查情形，且有紀錄。 | G8: □ | H8: □ | I8: □ | K8: □ | L8: □ | M8: □
A9: 2-1 宣導公費疫苗接種資訊，並鼓勵受托兒童及工作人員接種。 | G9: □ | H9: □ | I9: □ | K9: □ | L9: □ | M9: □
A10: 2-2 鼓勵工作人員接種麻疹、腮腺炎、德國麻疹(MMR)疫苗，並了解接種情形。 | G10: □ | H10: □ | I10: □ | K10: □ | L10: □ | M10: □
A11: 2-3 協助父母參照兒童健康手冊之內容，定期追蹤受托兒童預防接種情形，且有紀錄。 | G11: □ | H11: □ | I11: □ | K11: □ | L11: □ | M11: □
A12: 2-4 製作符合公費流感疫苗接種之受托兒童及工作人員名冊，載明施打情形，並紀錄未施打疫苗者之原因（如對蛋白質或疫苗其他成份過敏等)。 | G12: □ | H12: □ | I12: □ | K12: □ | L12: □ | M12: □
A13: 3-1 訂有員工感染管制教育訓練計畫，並依計畫辦理員工教育訓練及留存訓練證明文件備查。 | G13: □ | H13: □ | I13: □ | K13: □ | L13: □ | M13: □
A14: 3-2 新進員工應於到職後一個月內接受至少四小時感染管制課程。* | G14: □ | H14: □ | I14: □ | K14: □ | L14: □ | M14: □
A15: 3-3 在職員工每年應接受至少四小時感染管制課程，專責人員每年應接受至少八小時感染管制課程。 | G15: □ | H15: □ | I15: □ | K15: □ | L15: □ | M15: □
A16: 4-1 每週至少清潔、消毒機構內外環境（包括整個機構房室、活動區、用餐區等）1次且有紀錄（包括環境清消日期、區域、消毒藥品名稱及方式等）。 | G16: □ | H16: □ | I16: □ | K16: □ | L16: □ | M16: □
A17: 4-2 機構內具防蚊蟲設備。 | G17: □ | H17: □ | I17: □ | K17: □ | L17: □ | M17: □
A18: 4-3 清潔人員能正確配製漂白水濃度。 | G18: □ | H18: □ | I18: □ | K18: □ | L18: □ | M18: □
A19: 5-1 機構應指派符合資格之感染管制專責人員，負責推動機構內感染管制相關工作。 | G19: □ | H19: □ | I19: □ | K19: □ | L19: □ | M19: □
... A26: 7-2 機構發生疑似感染個案應有紀錄，如須由機構送醫，協助之工作人員應視需要配戴口罩、手套，做好個人防護。 | G26: □ | H26: □ | I26: □ | K26: □ | L26: □ | M26: □
A28: Step1-各縣市政府提供 | G28: Step2-托嬰中心填寫
A29: 其他建議： | G29: 參酌辦理情形 | J29: 說明
G30: 已完成 | H30: 執行中 | I30: 未參採
G31: □ | H31: □ | I31: □
G32: □ | H32: □ | I32: □
G33: □ | H33: □ | I33: □
G34: □ | H34: □ | I34: □
G35: □ | H35: □ | I35: □

Sheet 托嬰中心11
A1: 107年托嬰中心感染管制查核(輔導)結果暨應改善事項追蹤表
M2: 查核（輔導）日期：
A3: Step1-各縣市政府提供 | G3: Step2-托嬰中心填寫 | K3: Step3-各縣市政府填寫
A4: 縣(市) | B4: 受查機構名稱 | D4: 達成比率(%) | F4: 查核 (輔導) 結果 | G4: 執行狀況 | J4: 目前執行情形 （或尚未執行理由） | K4: 追蹤結果 | N4: 追踨情形
D5: 不符合 | E5: 符合 | G5: 已完成 | H5: 執行中 | I5: 未執行 | K5: 已完成 | L5: 執行中 | M5: 未執行
D6: =(COUNTIF(B8:B8,"不符合")+COUNTIF(B9:B12,"不符合")+COUNTIF(B13:B15,"不符合")+COUNTIF(B16:B18,"不符合")+COUNTIF(B19:B22,"不符合")+COUNTIF(B23:B24,"不符合")+COUNTIF(B25:B26,"不符合"))/(19-COUNTIF(B14,"不適用")) -> 0 | E6: =(COUNTIF(B8:B8,"符合")+COUNTIF(B9:B12,"符合")+COUNTIF(B13:B15,"符合")+COUNTIF(B16:B18,"符合")+COUNTIF(B19:B22,"符合")+COUNTIF(B23:B24,"符合")+COUNTIF(B25:B26,"符合"))/(19-COUNTIF(B14,"不適用")) -> 0 | F6: =IF(COUNTBLANK(B8:B26)>0,"",IF(E6>=0.6,"合格","不合格"))
A7: 查核項目 | B7: 評分等級 | C7: 應改善事項（符合、不適用項目免填） | G7: 若無應改善事項免填 | K7: 若無應改善事項免填
A8: 1-1 協助父母參照兒童健康手冊之內容，定期追蹤受託兒童健康檢查情形，且有紀錄。 | G8: □ | H8: □ | I8: □ | K8: □ | L8: □ | M8: □
A9: 2-1 宣導公費疫苗接種資訊，並鼓勵受托兒童及工作人員接種。 | G9: □ | H9: □ | I9: □ | K9: □ | L9: □ | M9: □
A10: 2-2 鼓勵工作人員接種麻疹、腮腺炎、德國麻疹(MMR)疫苗，並了解接種情形。 | G10: □ | H10: □ | I10: □ | K10: □ | L10: □ | M10: □
A11: 2-3 協助父母參照兒童健康手冊之內容，定期追蹤受托兒童預防接種情形，且有紀錄。 | G11: □ | H11: □ | I11: □ | K11: □ | L11: □ | M11: □
A12: 2-4 製作符合公費流感疫苗接種之受托兒童及工作人員名冊，載明施打情形，並紀錄未施打疫苗者之原因（如對蛋白質或疫苗其他成份過敏等)。 | G12: □ | H12: □ | I12: □ | K12: □ | L12: □ | M12: □
A13: 3-1 訂有員工感染管制教育訓練計畫，並依計畫辦理員工教育訓練及留存訓練證明文件備查。 | G13: □ | H13: □ | I13: □ | K13: □ | L13: □ | M13: □
A14: 3-2 新進員工應於到職後一個月內接受至少四小時感染管制課程。* | G14: □ | H14: □ | I14: □ | K14: □ | L14: □ | M14: □
A15: 3-3 在職員工每年應接受至少四小時感染管制課程，專責人員每年應接受至少八小時感染管制課程。 | G15: □ | H15: □ | I15: □ | K15: □ | L15: □ | M15: □
A16: 4-1 每週至少清潔、消毒機構內外環境（包括整個機構房室、活動區、用餐區等）1次且有紀錄（包括環境清消日期、區域、消毒藥品名稱及方式等）。 | G16: □ | H16: □ | I16: □ | K16: □ | L16: □ | M16: □
A17: 4-2 機構內具防蚊蟲設備。 | G17: □ | H17: □ | I17: □ | K17: □ | L17: □ | M17: □
A18: 4-3 清潔人員能正確配製漂白水濃度。 | G18: □ | H18: □ | I18: □ | K18: □ | L18: □ | M18: □
A19: 5-1 機構應指派符合資格之感染管制專責人員，負責推動機構內感染管制相關工作。 | G19: □ | H19: □ | I19: □ | K19: □ | L19: □ | M19: □
... A26: 7-2 機構發生疑似感染個案應有紀錄，如須由機構送醫，協助之工作人員應視需要配戴口罩、手套，做好個人防護。 | G26: □ | H26: □ | I26: □ | K26: □ | L26: □ | M26: □
A28: Step1-各縣市政府提供 | G28: Step2-托嬰中心填寫
A29: 其他建議： | G29: 參酌辦理情形 | J29: 說明
G30: 已完成 | H30: 執行中 | I30: 未參採
G31: □ | H31: □ | I31: □
G32: □ | H32: □ | I32: □
G33: □ | H33: □ | I33: □
G34: □ | H34: □ | I34: □
G35: □ | H35: □ | I35: □

Sheet 托嬰中心12
A1: 107年托嬰中心感染管制查核(輔導)結果暨應改善事項追蹤表
M2: 查核（輔導）日期：
A3: Step1-各縣市政府提供 | G3: Step2-托嬰中心填寫 | K3: Step3-各縣市政府填寫
A4: 縣(市) | B4: 受查機構名稱 | D4: 達成比率(%) | F4: 查核 (輔導) 結果 | G4: 執行狀況 | J4: 目前執行情形 （或尚未執行理由） | K4: 追蹤結果 | N4: 追踨情形
D5: 不符合 | E5: 符合 | G5: 已完成 | H5: 執行中 | I5: 未執行 | K5: 已完成 | L5: 執行中 | M5: 未執行
D6: =(COUNTIF(B8:B8,"不符合")+COUNTIF(B9:B12,"不符合")+COUNTIF(B13:B15,"不符合")+COUNTIF(B16:B18,"不符合")+COUNTIF(B19:B22,"不符合")+COUNTIF(B23:B24,"不符合")+COUNTIF(B25:B26,"不符合"))/(19-COUNTIF(B14,"不適用")) -> 0 | E6: =(COUNTIF(B8:B8,"符合")+COUNTIF(B9:B12,"符合")+COUNTIF(B13:B15,"符合")+COUNTIF(B16:B18,"符合")+COUNTIF(B19:B22,"符合")+COUNTIF(B23:B24,"符合")+COUNTIF(B25:B26,"符合"))/(19-COUNTIF(B14,"不適用")) -> 0 | F6: =IF(COUNTBLANK(B8:B26)>0,"",IF(E6>=0.6,"合格","不合格"))
A7: 查核項目 | B7: 評分等級 | C7: 應改善事項（符合、不適用項目免填） | G7: 若無應改善事項免填 | K7: 若無應改善事項免填
A8: 1-1 協助父母參照兒童健康手冊之內容，定期追蹤受託兒童健康檢查情形，且有紀錄。 | G8: □ | H8: □ | I8: □ | K8: □ | L8: □ | M8: □
A9: 2-1 宣導公費疫苗接種資訊，並鼓勵受托兒童及工作人員接種。 | G9: □ | H9: □ | I9: □ | K9: □ | L9: □ | M9: □
A10: 2-2 鼓勵工作人員接種麻疹、腮腺炎、德國麻疹(MMR)疫苗，並了解接種情形。 | G10: □ | H10: □ | I10: □ | K10: □ | L10: □ | M10: □
A11: 2-3 協助父母參照兒童健康手冊之內容，定期追蹤受托兒童預防接種情形，且有紀錄。 | G11: □ | H11: □ | I11: □ | K11: □ | L11: □ | M11: □
A12: 2-4 製作符合公費流感疫苗接種之受托兒童及工作人員名冊，載明施打情形，並紀錄未施打疫苗者之原因（如對蛋白質或疫苗其他成份過敏等)。 | G12: □ | H12: □ | I12: □ | K12: □ | L12: □ | M12: □
A13: 3-1 訂有員工感染管制教育訓練計畫，並依計畫辦理員工教育訓練及留存訓練證明文件備查。 | G13: □ | H13: □ | I13: □ | K13: □ | L13: □ | M13: □
A14: 3-2 新進員工應於到職後一個月內接受至少四小時感染管制課程。* | G14: □ | H14: □ | I14: □ | K14: □ | L14: □ | M14: □
A15: 3-3 在職員工每年應接受至少四小時感染管制課程，專責人員每年應接受至少八小時感染管制課程。 | G15: □ | H15: □ | I15: □ | K15: □ | L15: □ | M15: □
A16: 4-1 每週至少清潔、消毒機構內外環境（包括整個機構房室、活動區、用餐區等）1次且有紀錄（包括環境清消日期、區域、消毒藥品名稱及方式等）。 | G16: □ | H16: □ | I16: □ | K16: □ | L16: □ | M16: □
A17: 4-2 機構內具防蚊蟲設備。 | G17: □ | H17: □ | I17: □ | K17: □ | L17: □ | M17: □
A18: 4-3 清潔人員能正確配製漂白水濃度。 | G18: □ | H18: □ | I18: □ | K18: □ | L18: □ | M18: □
A19: 5-1 機構應指派符合資格之感染管制專責人員，負責推動機構內感染管制相關工作。 | G19: □ | H19: □ | I19: □ | K19: □ | L19: □ | M19: □
... A26: 7-2 機構發生疑似感染個案應有紀錄，如須由機構送醫，協助之工作人員應視需要配戴口罩、手套，做好個人防護。 | G26: □ | H26: □ | I26: □ | K26: □ | L26: □ | M26: □
A28: Step1-各縣市政府提供 | G28: Step2-托嬰中心填寫
A29: 其他建議： | G29: 參酌辦理情形 | J29: 說明
G30: 已完成 | H30: 執行中 | I30: 未參採
G31: □ | H31: □ | I31: □
G32: □ | H32: □ | I32: □
G33: □ | H33: □ | I33: □
G34: □ | H34: □ | I34: □
G35: □ | H35: □ | I35: □

Sheet 托嬰中心13
A1: 107年托嬰中心感染管制查核(輔導)結果暨應改善事項追蹤表
M2: 查核（輔導）日期：
A3: Step1-各縣市政府提供 | G3: Step2-托嬰中心填寫 | K3: Step3-各縣市政府填寫
A4: 縣(市) | B4: 受查機構名稱 | D4: 達成比率(%) | F4: 查核 (輔導) 結果 | G4: 執行狀況 | J4: 目前執行情形 （或尚未執行理由） | K4: 追蹤結果 | N4: 追踨情形
D5: 不符合 | E5: 符合 | G5: 已完成 | H5: 執行中 | I5: 未執行 | K5: 已完成 | L5: 執行中 | M5: 未執行
D6: =(COUNTIF(B8:B8,"不符合")+COUNTIF(B9:B12,"不符合")+COUNTIF(B13:B15,"不符合")+COUNTIF(B16:B18,"不符合")+COUNTIF(B19:B22,"不符合")+COUNTIF(B23:B24,"不符合")+COUNTIF(B25:B26,"不符合"))/(19-COUNTIF(B14,"不適用")) -> 0 | E6: =(COUNTIF(B8:B8,"符合")+COUNTIF(B9:B12,"符合")+COUNTIF(B13:B15,"符合")+COUNTIF(B16:B18,"符合")+COUNTIF(B19:B22,"符合")+COUNTIF(B23:B24,"符合")+COUNTIF(B25:B26,"符合"))/(19-COUNTIF(B14,"不適用")) -> 0 | F6: =IF(COUNTBLANK(B8:B26)>0,"",IF(E6>=0.6,"合格","不合格"))
A7: 查核項目 | B7: 評分等級 | C7: 應改善事項（符合、不適用項目免填） | G7: 若無應改善事項免填 | K7: 若無應改善事項免填
A8: 1-1 協助父母參照兒童健康手冊之內容，定期追蹤受託兒童健康檢查情形，且有紀錄。 | G8: □ | H8: □ | I8: □ | K8: □ | L8: □ | M8: □
A9: 2-1 宣導公費疫苗接種資訊，並鼓勵受托兒童及工作人員接種。 | G9: □ | H9: □ | I9: □ | K9: □ | L9: □ | M9: □
A10: 2-2 鼓勵工作人員接種麻疹、腮腺炎、德國麻疹(MMR)疫苗，並了解接種情形。 | G10: □ | H10: □ | I10: □ | K10: □ | L10: □ | M10: □
A11: 2-3 協助父母參照兒童健康手冊之內容，定期追蹤受托兒童預防接種情形，且有紀錄。 | G11: □ | H11: □ | I11: □ | K11: □ | L11: □ | M11: □
A12: 2-4 製作符合公費流感疫苗接種之受托兒童及工作人員名冊，載明施打情形，並紀錄未施打疫苗者之原因（如對蛋白質或疫苗其他成份過敏等)。 | G12: □ | H12: □ | I12: □ | K12: □ | L12: □ | M12: □
A13: 3-1 訂有員工感染管制教育訓練計畫，並依計畫辦理員工教育訓練及留存訓練證明文件備查。 | G13: □ | H13: □ | I13: □ | K13: □ | L13: □ | M13: □
A14: 3-2 新進員工應於到職後一個月內接受至少四小時感染管制課程。* | G14: □ | H14: □ | I14: □ | K14: □ | L14: □ | M14: □
A15: 3-3 在職員工每年應接受至少四小時感染管制課程，專責人員每年應接受至少八小時感染管制課程。 | G15: □ | H15: □ | I15: □ | K15: □ | L15: □ | M15: □
A16: 4-1 每週至少清潔、消毒機構內外環境（包括整個機構房室、活動區、用餐區等）1次且有紀錄（包括環境清消日期、區域、消毒藥品名稱及方式等）。 | G16: □ | H16: □ | I16: □ | K16: □ | L16: □ | M16: □
A17: 4-2 機構內具防蚊蟲設備。 | G17: □ | H17: □ | I17: □ | K17: □ | L17: □ | M17: □
A18: 4-3 清潔人員能正確配製漂白水濃度。 | G18: □ | H18: □ | I18: □ | K18: □ | L18: □ | M18: □
A19: 5-1 機構應指派符合資格之感染管制專責人員，負責推動機構內感染管制相關工作。 | G19: □ | H19: □ | I19: □ | K19: □ | L19: □ | M19: □
... A26: 7-2 機構發生疑似感染個案應有紀錄，如須由機構送醫，協助之工作人員應視需要配戴口罩、手套，做好個人防護。 | G26: □ | H26: □ | I26: □ | K26: □ | L26: □ | M26: □
A28: Step1-各縣市政府提供 | G28: Step2-托嬰中心填寫
A29: 其他建議： | G29: 參酌辦理情形 | J29: 說明
G30: 已完成 | H30: 執行中 | I30: 未參採
G31: □ | H31: □ | I31: □
G32: □ | H32: □ | I32: □
G33: □ | H33: □ | I33: □
G34: □ | H34: □ | I34: □
G35: □ | H35: □ | I35: □

Sheet 托嬰中心14
A1: 107年托嬰中心感染管制查核(輔導)結果暨應改善事項追蹤表
M2: 查核（輔導）日期：
A3: Step1-各縣市政府提供 | G3: Step2-托嬰中心填寫 | K3: Step3-各縣市政府填寫
A4: 縣(市) | B4: 受查機構名稱 | D4: 達成比率(%) | F4: 查核 (輔導) 結果 | G4: 執行狀況 | J4: 目前執行情形 （或尚未執行理由） | K4: 追蹤結果 | N4: 追踨情形
D5: 不符合 | E5: 符合 | G5: 已完成 | H5: 執行中 | I5: 未執行 | K5: 已完成 | L5: 執行中 | M5: 未執行
D6: =(COUNTIF(B8:B8,"不符合")+COUNTIF(B9:B12,"不符合")+COUNTIF(B13:B15,"不符合")+COUNTIF(B16:B18,"不符合")+COUNTIF(B19:B22,"不符合")+COUNTIF(B23:B24,"不符合")+COUNTIF(B25:B26,"不符合"))/(19-COUNTIF(B14,"不適用")) -> 0 | E6: =(COUNTIF(B8:B8,"符合")+COUNTIF(B9:B12,"符合")+COUNTIF(B13:B15,"符合")+COUNTIF(B16:B18,"符合")+COUNTIF(B19:B22,"符合")+COUNTIF(B23:B24,"符合")+COUNTIF(B25:B26,"符合"))/(19-COUNTIF(B14,"不適用")) -> 0 | F6: =IF(COUNTBLANK(B8:B26)>0,"",IF(E6>=0.6,"合格","不合格"))
A7: 查核項目 | B7: 評分等級 | C7: 應改善事項（符合、不適用項目免填） | G7: 若無應改善事項免填 | K7: 若無應改善事項免填
A8: 1-1 協助父母參照兒童健康手冊之內容，定期追蹤受託兒童健康檢查情形，且有紀錄。 | G8: □ | H8: □ | I8: □ | K8: □ | L8: □ | M8: □
A9: 2-1 宣導公費疫苗接種資訊，並鼓勵受托兒童及工作人員接種。 | G9: □ | H9: □ | I9: □ | K9: □ | L9: □ | M9: □
A10: 2-2 鼓勵工作人員接種麻疹、腮腺炎、德國麻疹(MMR)疫苗，並了解接種情形。 | G10: □ | H10: □ | I10: □ | K10: □ | L10: □ | M10: □
A11: 2-3 協助父母參照兒童健康手冊之內容，定期追蹤受托兒童預防接種情形，且有紀錄。 | G11: □ | H11: □ | I11: □ | K11: □ | L11: □ | M11: □
A12: 2-4 製作符合公費流感疫苗接種之受托兒童及工作人員名冊，載明施打情形，並紀錄未施打疫苗者之原因（如對蛋白質或疫苗其他成份過敏等)。 | G12: □ | H12: □ | I12: □ | K12: □ | L12: □ | M12: □
A13: 3-1 訂有員工感染管制教育訓練計畫，並依計畫辦理員工教育訓練及留存訓練證明文件備查。 | G13: □ | H13: □ | I13: □ | K13: □ | L13: □ | M13: □
A14: 3-2 新進員工應於到職後一個月內接受至少四小時感染管制課程。* | G14: □ | H14: □ | I14: □ | K14: □ | L14: □ | M14: □
A15: 3-3 在職員工每年應接受至少四小時感染管制課程，專責人員每年應接受至少八小時感染管制課程。 | G15: □ | H15: □ | I15: □ | K15: □ | L15: □ | M15: □
A16: 4-1 每週至少清潔、消毒機構內外環境（包括整個機構房室、活動區、用餐區等）1次且有紀錄（包括環境清消日期、區域、消毒藥品名稱及方式等）。 | G16: □ | H16: □ | I16: □ | K16: □ | L16: □ | M16: □
A17: 4-2 機構內具防蚊蟲設備。 | G17: □ | H17: □ | I17: □ | K17: □ | L17: □ | M17: □
A18: 4-3 清潔人員能正確配製漂白水濃度。 | G18: □ | H18: □ | I18: □ | K18: □ | L18: □ | M18: □
A19: 5-1 機構應指派符合資格之感染管制專責人員，負責推動機構內感染管制相關工作。 | G19: □ | H19: □ | I19: □ | K19: □ | L19: □ | M19: □
... A26: 7-2 機構發生疑似感染個案應有紀錄，如須由機構送醫，協助之工作人員應視需要配戴口罩、手套，做好個人防護。 | G26: □ | H26: □ | I26: □ | K26: □ | L26: □ | M26: □
A28: Step1-各縣市政府提供 | G28: Step2-托嬰中心填寫
A29: 其他建議： | G29: 參酌辦理情形 | J29: 說明
G30: 已完成 | H30: 執行中 | I30: 未參採
G31: □ | H31: □ | I31: □
G32: □ | H32: □ | I32: □
G33: □ | H33: □ | I33: □
G34: □ | H34: □ | I34: □
G35: □ | H35: □ | I35: □

Sheet 托嬰中心15
A1: 107年托嬰中心感染管制查核(輔導)結果暨應改善事項追蹤表
M2: 查核（輔導）日期：
A3: Step1-各縣市政府提供 | G3: Step2-托嬰中心填寫 | K3: Step3-各縣市政府填寫
A4: 縣(市) | B4: 受查機構名稱 | D4: 達成比率(%) | F4: 查核 (輔導) 結果 | G4: 執行狀況 | J4: 目前執行情形 （或尚未執行理由） | K4: 追蹤結果 | N4: 追踨情形
D5: 不符合 | E5: 符合 | G5: 已完成 | H5: 執行中 | I5: 未執行 | K5: 已完成 | L5: 執行中 | M5: 未執行
D6: =(COUNTIF(B8:B8,"不符合")+COUNTIF(B9:B12,"不符合")+COUNTIF(B13:B15,"不符合")+COUNTIF(B16:B18,"不符合")+COUNTIF(B19:B22,"不符合")+COUNTIF(B23:B24,"不符合")+COUNTIF(B25:B26,"不符合"))/(19-COUNTIF(B14,"不適用")) -> 0 | E6: =(COUNTIF(B8:B8,"符合")+COUNTIF(B9:B12,"符合")+COUNTIF(B13:B15,"符合")+COUNTIF(B16:B18,"符合")+COUNTIF(B19:B22,"符合")+COUNTIF(B23:B24,"符合")+COUNTIF(B25:B26,"符合"))/(19-COUNTIF(B14,"不適用")) -> 0 | F6: =IF(COUNTBLANK(B8:B26)>0,"",IF(E6>=0.6,"合格","不合格"))
A7: 查核項目 | B7: 評分等級 | C7: 應改善事項（符合、不適用項目免填） | G7: 若無應改善事項免填 | K7: 若無應改善事項免填
A8: 1-1 協助父母參照兒童健康手冊之內容，定期追蹤受託兒童健康檢查情形，且有紀錄。 | G8: □ | H8: □ | I8: □ | K8: □ | L8: □ | M8: □
A9: 2-1 宣導公費疫苗接種資訊，並鼓勵受托兒童及工作人員接種。 | G9: □ | H9: □ | I9: □ | K9: □ | L9: □ | M9: □
A10: 2-2 鼓勵工作人員接種麻疹、腮腺炎、德國麻疹(MMR)疫苗，並了解接種情形。 | G10: □ | H10: □ | I10: □ | K10: □ | L10: □ | M10: □
A11: 2-3 協助父母參照兒童健康手冊之內容，定期追蹤受托兒童預防接種情形，且有紀錄。 | G11: □ | H11: □ | I11: □ | K11: □ | L11: □ | M11: □
A12: 2-4 製作符合公費流感疫苗接種之受托兒童及工作人員名冊，載明施打情形，並紀錄未施打疫苗者之原因（如對蛋白質或疫苗其他成份過敏等)。 | G12: □ | H12: □ | I12: □ | K12: □ | L12: □ | M12: □
A13: 3-1 訂有員工感染管制教育訓練計畫，並依計畫辦理員工教育訓練及留存訓練證明文件備查。 | G13: □ | H13: □ | I13: □ | K13: □ | L13: □ | M13: □
A14: 3-2 新進員工應於到職後一個月內接受至少四小時感染管制課程。* | G14: □ | H14: □ | I14: □ | K14: □ | L14: □ | M14: □
A15: 3-3 在職員工每年應接受至少四小時感染管制課程，專責人員每年應接受至少八小時感染管制課程。 | G15: □ | H15: □ | I15: □ | K15: □ | L15: □ | M15: □
A16: 4-1 每週至少清潔、消毒機構內外環境（包括整個機構房室、活動區、用餐區等）1次且有紀錄（包括環境清消日期、區域、消毒藥品名稱及方式等）。 | G16: □ | H16: □ | I16: □ | K16: □ | L16: □ | M16: □
A17: 4-2 機構內具防蚊蟲設備。 | G17: □ | H17: □ | I17: □ | K17: □ | L17: □ | M17: □
A18: 4-3 清潔人員能正確配製漂白水濃度。 | G18: □ | H18: □ | I18: □ | K18: □ | L18: □ | M18: □
A19: 5-1 機構應指派符合資格之感染管制專責人員，負責推動機構內感染管制相關工作。 | G19: □ | H19: □ | I19: □ | K19: □ | L19: □ | M19: □
... A26: 7-2 機構發生疑似感染個案應有紀錄，如須由機構送醫，協助之工作人員應視需要配戴口罩、手套，做好個人防護。 | G26: □ | H26: □ | I26: □ | K26: □ | L26: □ | M26: □
A28: Step1-各縣市政府提供 | G28: Step2-托嬰中心填寫
A29: 其他建議： | G29: 參酌辦理情形 | J29: 說明
G30: 已完成 | H30: 執行中 | I30: 未參採
G31: □ | H31: □ | I31: □
G32: □ | H32: □ | I32: □
G33: □ | H33: □ | I33: □
G34: □ | H34: □ | I34: □
G35: □ | H35: □ | I35: □

Sheet 托嬰中心16
A1: 107年托嬰中心感染管制查核(輔導)結果暨應改善事項追蹤表
M2: 查核（輔導）日期：
A3: Step1-各縣市政府提供 | G3: Step2-托嬰中心填寫 | K3: Step3-各縣市政府填寫
A4: 縣(市) | B4: 受查機構名稱 | D4: 達成比率(%) | F4: 查核 (輔導) 結果 | G4: 執行狀況 | J4: 目前執行情形 （或尚未執行理由） | K4: 追蹤結果 | N4: 追踨情形
D5: 不符合 | E5: 符合 | G5: 已完成 | H5: 執行中 | I5: 未執行 | K5: 已完成 | L5: 執行中 | M5: 未執行
D6: =(COUNTIF(B8:B8,"不符合")+COUNTIF(B9:B12,"不符合")+COUNTIF(B13:B15,"不符合")+COUNTIF(B16:B18,"不符合")+COUNTIF(B19:B22,"不符合")+COUNTIF(B23:B24,"不符合")+COUNTIF(B25:B26,"不符合"))/(19-COUNTIF(B14,"不適用")) -> 0 | E6: =(COUNTIF(B8:B8,"符合")+COUNTIF(B9:B12,"符合")+COUNTIF(B13:B15,"符合")+COUNTIF(B16:B18,"符合")+COUNTIF(B19:B22,"符合")+COUNTIF(B23:B24,"符合")+COUNTIF(B25:B26,"符合"))/(19-COUNTIF(B14,"不適用")) -> 0 | F6: =IF(COUNTBLANK(B8:B26)>0,"",IF(E6>=0.6,"合格","不合格"))
A7: 查核項目 | B7: 評分等級 | C7: 應改善事項（符合、不適用項目免填） | G7: 若無應改善事項免填 | K7: 若無應改善事項免填
A8: 1-1 協助父母參照兒童健康手冊之內容，定期追蹤受託兒童健康檢查情形，且有紀錄。 | G8: □ | H8: □ | I8: □ | K8: □ | L8: □ | M8: □
A9: 2-1 宣導公費疫苗接種資訊，並鼓勵受托兒童及工作人員接種。 | G9: □ | H9: □ | I9: □ | K9: □ | L9: □ | M9: □
A10: 2-2 鼓勵工作人員接種麻疹、腮腺炎、德國麻疹(MMR)疫苗，並了解接種情形。 | G10: □ | H10: □ | I10: □ | K10: □ | L10: □ | M10: □
A11: 2-3 協助父母參照兒童健康手冊之內容，定期追蹤受托兒童預防接種情形，且有紀錄。 | G11: □ | H11: □ | I11: □ | K11: □ | L11: □ | M11: □
A12: 2-4 製作符合公費流感疫苗接種之受托兒童及工作人員名冊，載明施打情形，並紀錄未施打疫苗者之原因（如對蛋白質或疫苗其他成份過敏等)。 | G12: □ | H12: □ | I12: □ | K12: □ | L12: □ | M12: □
A13: 3-1 訂有員工感染管制教育訓練計畫，並依計畫辦理員工教育訓練及留存訓練證明文件備查。 | G13: □ | H13: □ | I13: □ | K13: □ | L13: □ | M13: □
A14: 3-2 新進員工應於到職後一個月內接受至少四小時感染管制課程。* | G14: □ | H14: □ | I14: □ | K14: □ | L14: □ | M14: □
A15: 3-3 在職員工每年應接受至少四小時感染管制課程，專責人員每年應接受至少八小時感染管制課程。 | G15: □ | H15: □ | I15: □ | K15: □ | L15: □ | M15: □
A16: 4-1 每週至少清潔、消毒機構內外環境（包括整個機構房室、活動區、用餐區等）1次且有紀錄（包括環境清消日期、區域、消毒藥品名稱及方式等）。 | G16: □ | H16: □ | I16: □ | K16: □ | L16: □ | M16: □
A17: 4-2 機構內具防蚊蟲設備。 | G17: □ | H17: □ | I17: □ | K17: □ | L17: □ | M17: □
A18: 4-3 清潔人員能正確配製漂白水濃度。 | G18: □ | H18: □ | I18: □ | K18: □ | L18: □ | M18: □
A19: 5-1 機構應指派符合資格之感染管制專責人員，負責推動機構內感染管制相關工作。 | G19: □ | H19: □ | I19: □ | K19: □ | L19: □ | M19: □
... A26: 7-2 機構發生疑似感染個案應有紀錄，如須由機構送醫，協助之工作人員應視需要配戴口罩、手套，做好個人防護。 | G26: □ | H26: □ | I26: □ | K26: □ | L26: □ | M26: □
A28: Step1-各縣市政府提供 | G28: Step2-托嬰中心填寫
A29: 其他建議： | G29: 參酌辦理情形 | J29: 說明
G30: 已完成 | H30: 執行中 | I30: 未參採
G31: □ | H31: □ | I31: □
G32: □ | H32: □ | I32: □
G33: □ | H33: □ | I33: □
G34: □ | H34: □ | I34: □
G35: □ | H35: □ | I35: □

Sheet 托嬰中心17
A1: 107年托嬰中心感染管制查核(輔導)結果暨應改善事項追蹤表
M2: 查核（輔導）日期：
A3: Step1-各縣市政府提供 | G3: Step2-托嬰中心填寫 | K3: Step3-各縣市政府填寫
A4: 縣(市) | B4: 受查機構名稱 | D4: 達成比率(%) | F4: 查核 (輔導) 結果 | G4: 執行狀況 | J4: 目前執行情形 （或尚未執行理由） | K4: 追蹤結果 | N4: 追踨情形
D5: 不符合 | E5: 符合 | G5: 已完成 | H5: 執行中 | I5: 未執行 | K5: 已完成 | L5: 執行中 | M5: 未執行
D6: =(COUNTIF(B8:B8,"不符合")+COUNTIF(B9:B12,"不符合")+COUNTIF(B13:B15,"不符合")+COUNTIF(B16:B18,"不符合")+COUNTIF(B19:B22,"不符合")+COUNTIF(B23:B24,"不符合")+COUNTIF(B25:B26,"不符合"))/(19-COUNTIF(B14,"不適用")) -> 0 | E6: =(COUNTIF(B8:B8,"符合")+COUNTIF(B9:B12,"符合")+COUNTIF(B13:B15,"符合")+COUNTIF(B16:B18,"符合")+COUNTIF(B19:B22,"符合")+COUNTIF(B23:B24,"符合")+COUNTIF(B25:B26,"符合"))/(19-COUNTIF(B14,"不適用")) -> 0 | F6: =IF(COUNTBLANK(B8:B26)>0,"",IF(E6>=0.6,"合格","不合格"))
A7: 查核項目 | B7: 評分等級 | C7: 應改善事項（符合、不適用項目免填） | G7: 若無應改善事項免填 | K7: 若無應改善事項免填
A8: 1-1 協助父母參照兒童健康手冊之內容，定期追蹤受託兒童健康檢查情形，且有紀錄。 | G8: □ | H8: □ | I8: □ | K8: □ | L8: □ | M8: □
A9: 2-1 宣導公費疫苗接種資訊，並鼓勵受托兒童及工作人員接種。 | G9: □ | H9: □ | I9: □ | K9: □ | L9: □ | M9: □
A10: 2-2 鼓勵工作人員接種麻疹、腮腺炎、德國麻疹(MMR)疫苗，並了解接種情形。 | G10: □ | H10: □ | I10: □ | K10: □ | L10: □ | M10: □
A11: 2-3 協助父母參照兒童健康手冊之內容，定期追蹤受托兒童預防接種情形，且有紀錄。 | G11: □ | H11: □ | I11: □ | K11: □ | L11: □ | M11: □
A12: 2-4 製作符合公費流感疫苗接種之受托兒童及工作人員名冊，載明施打情形，並紀錄未施打疫苗者之原因（如對蛋白質或疫苗其他成份過敏等)。 | G12: □ | H12: □ | I12: □ | K12: □ | L12: □ | M12: □
A13: 3-1 訂有員工感染管制教育訓練計畫，並依計畫辦理員工教育訓練及留存訓練證明文件備查。 | G13: □ | H13: □ | I13: □ | K13: □ | L13: □ | M13: □
A14: 3-2 新進員工應於到職後一個月內接受至少四小時感染管制課程。* | G14: □ | H14: □ | I14: □ | K14: □ | L14: □ | M14: □
A15: 3-3 在職員工每年應接受至少四小時感染管制課程，專責人員每年應接受至少八小時感染管制課程。 | G15: □ | H15: □ | I15: □ | K15: □ | L15: □ | M15: □
A16: 4-1 每週至少清潔、消毒機構內外環境（包括整個機構房室、活動區、用餐區等）1次且有紀錄（包括環境清消日期、區域、消毒藥品名稱及方式等）。 | G16: □ | H16: □ | I16: □ | K16: □ | L16: □ | M16: □
A17: 4-2 機構內具防蚊蟲設備。 | G17: □ | H17: □ | I17: □ | K17: □ | L17: □ | M17: □
A18: 4-3 清潔人員能正確配製漂白水濃度。 | G18: □ | H18: □ | I18: □ | K18: □ | L18: □ | M18: □
A19: 5-1 機構應指派符合資格之感染管制專責人員，負責推動機構內感染管制相關工作。 | G19: □ | H19: □ | I19: □ | K19: □ | L19: □ | M19: □
... A26: 7-2 機構發生疑似感染個案應有紀錄，如須由機構送醫，協助之工作人員應視需要配戴口罩、手套，做好個人防護。 | G26: □ | H26: □ | I26: □ | K26: □ | L26: □ | M26: □
A28: Step1-各縣市政府提供 | G28: Step2-托嬰中心填寫
A29: 其他建議： | G29: 參酌辦理情形 | J29: 說明
G30: 已完成 | H30: 執行中 | I30: 未參採
G31: □ | H31: □ | I31: □
G32: □ | H32: □ | I32: □
G33: □ | H33: □ | I33: □
G34: □ | H34: □ | I34: □
G35: □ | H35: □ | I35: □

Sheet 托嬰中心18
A1: 107年托嬰中心感染管制查核(輔導)結果暨應改善事項追蹤表
M2: 查核（輔導）日期：
A3: Step1-各縣市政府提供 | G3: Step2-托嬰中心填寫 | K3: Step3-各縣市政府填寫
A4: 縣(市) | B4: 受查機構名稱 | D4: 達成比率(%) | F4: 查核 (輔導) 結果 | G4: 執行狀況 | J4: 目前執行情形 （或尚未執行理由） | K4: 追蹤結果 | N4: 追踨情形
D5: 不符合 | E5: 符合 | G5: 已完成 | H5: 執行中 | I5: 未執行 | K5: 已完成 | L5: 執行中 | M5: 未執行
D6: =(COUNTIF(B8:B8,"不符合")+COUNTIF(B9:B12,"不符合")+COUNTIF(B13:B15,"不符合")+COUNTIF(B16:B18,"不符合")+COUNTIF(B19:B22,"不符合")+COUNTIF(B23:B24,"不符合")+COUNTIF(B25:B26,"不符合"))/(19-COUNTIF(B14,"不適用")) -> 0 | E6: =(COUNTIF(B8:B8,"符合")+COUNTIF(B9:B12,"符合")+COUNTIF(B13:B15,"符合")+COUNTIF(B16:B18,"符合")+COUNTIF(B19:B22,"符合")+COUNTIF(B23:B24,"符合")+COUNTIF(B25:B26,"符合"))/(19-COUNTIF(B14,"不適用")) -> 0 | F6: =IF(COUNTBLANK(B8:B26)>0,"",IF(E6>=0.6,"合格","不合格"))
A7: 查核項目 | B7: 評分等級 | C7: 應改善事項（符合、不適用項目免填） | G7: 若無應改善事項免填 | K7: 若無應改善事項免填
A8: 1-1 協助父母參照兒童健康手冊之內容，定期追蹤受託兒童健康檢查情形，且有紀錄。 | G8: □ | H8: □ | I8: □ | K8: □ | L8: □ | M8: □
A9: 2-1 宣導公費疫苗接種資訊，並鼓勵受托兒童及工作人員接種。 | G9: □ | H9: □ | I9: □ | K9: □ | L9: □ | M9: □
A10: 2-2 鼓勵工作人員接種麻疹、腮腺炎、德國麻疹(MMR)疫苗，並了解接種情形。 | G10: □ | H10: □ | I10: □ | K10: □ | L10: □ | M10: □
A11: 2-3 協助父母參照兒童健康手冊之內容，定期追蹤受托兒童預防接種情形，且有紀錄。 | G11: □ | H11: □ | I11: □ | K11: □ | L11: □ | M11: □
A12: 2-4 製作符合公費流感疫苗接種之受托兒童及工作人員名冊，載明施打情形，並紀錄未施打疫苗者之原因（如對蛋白質或疫苗其他成份過敏等)。 | G12: □ | H12: □ | I12: □ | K12: □ | L12: □ | M12: □
A13: 3-1 訂有員工感染管制教育訓練計畫，並依計畫辦理員工教育訓練及留存訓練證明文件備查。 | G13: □ | H13: □ | I13: □ | K13: □ | L13: □ | M13: □
A14: 3-2 新進員工應於到職後一個月內接受至少四小時感染管制課程。* | G14: □ | H14: □ | I14: □ | K14: □ | L14: □ | M14: □
A15: 3-3 在職員工每年應接受至少四小時感染管制課程，專責人員每年應接受至少八小時感染管制課程。 | G15: □ | H15: □ | I15: □ | K15: □ | L15: □ | M15: □
A16: 4-1 每週至少清潔、消毒機構內外環境（包括整個機構房室、活動區、用餐區等）1次且有紀錄（包括環境清消日期、區域、消毒藥品名稱及方式等）。 | G16: □ | H16: □ | I16: □ | K16: □ | L16: □ | M16: □
A17: 4-2 機構內具防蚊蟲設備。 | G17: □ | H17: □ | I17: □ | K17: □ | L17: □ | M17: □
A18: 4-3 清潔人員能正確配製漂白水濃度。 | G18: □ | H18: □ | I18: □ | K18: □ | L18: □ | M18: □
A19: 5-1 機構應指派符合資格之感染管制專責人員，負責推動機構內感染管制相關工作。 | G19: □ | H19: □ | I19: □ | K19: □ | L19: □ | M19: □
... A26: 7-2 機構發生疑似感染個案應有紀錄，如須由機構送醫，協助之工作人員應視需要配戴口罩、手套，做好個人防護。 | G26: □ | H26: □ | I26: □ | K26: □ | L26: □ | M26: □
A28: Step1-各縣市政府提供 | G28: Step2-托嬰中心填寫
A29: 其他建議： | G29: 參酌辦理情形 | J29: 說明
G30: 已完成 | H30: 執行中 | I30: 未參採
G31: □ | H31: □ | I31: □
G32: □ | H32: □ | I32: □
G33: □ | H33: □ | I33: □
G34: □ | H34: □ | I34: □
G35: □ | H35: □ | I35: □

Sheet 托嬰中心19
A1: 107年托嬰中心感染管制查核(輔導)結果暨應改善事項追蹤表
M2: 查核（輔導）日期：
A3: Step1-各縣市政府提供 | G3: Step2-托嬰中心填寫 | K3: Step3-各縣市政府填寫
A4: 縣(市) | B4: 受查機構名稱 | D4: 達成比率(%) | F4: 查核 (輔導) 結果 | G4: 執行狀況 | J4: 目前執行情形 （或尚未執行理由） | K4: 追蹤結果 | N4: 追踨情形
D5: 不符合 | E5: 符合 | G5: 已完成 | H5: 執行中 | I5: 未執行 | K5: 已完成 | L5: 執行中 | M5: 未執行
D6: =(COUNTIF(B8:B8,"不符合")+COUNTIF(B9:B12,"不符合")+COUNTIF(B13:B15,"不符合")+COUNTIF(B16:B18,"不符合")+COUNTIF(B19:B22,"不符合")+COUNTIF(B23:B24,"不符合")+COUNTIF(B25:B26,"不符合"))/(19-COUNTIF(B14,"不適用")) -> 0 | E6: =(COUNTIF(B8:B8,"符合")+COUNTIF(B9:B12,"符合")+COUNTIF(B13:B15,"符合")+COUNTIF(B16:B18,"符合")+COUNTIF(B19:B22,"符合")+COUNTIF(B23:B24,"符合")+COUNTIF(B25:B26,"符合"))/(19-COUNTIF(B14,"不適用")) -> 0 | F6: =IF(COUNTBLANK(B8:B26)>0,"",IF(E6>=0.6,"合格","不合格"))
A7: 查核項目 | B7: 評分等級 | C7: 應改善事項（符合、不適用項目免填） | G7: 若無應改善事項免填 | K7: 若無應改善事項免填
A8: 1-1 協助父母參照兒童健康手冊之內容，定期追蹤受託兒童健康檢查情形，且有紀錄。 | G8: □ | H8: □ | I8: □ | K8: □ | L8: □ | M8: □
A9: 2-1 宣導公費疫苗接種資訊，並鼓勵受托兒童及工作人員接種。 | G9: □ | H9: □ | I9: □ | K9: □ | L9: □ | M9: □
A10: 2-2 鼓勵工作人員接種麻疹、腮腺炎、德國麻疹(MMR)疫苗，並了解接種情形。 | G10: □ | H10: □ | I10: □ | K10: □ | L10: □ | M10: □
A11: 2-3 協助父母參照兒童健康手冊之內容，定期追蹤受托兒童預防接種情形，且有紀錄。 | G11: □ | H11: □ | I11: □ | K11: □ | L11: □ | M11: □
A12: 2-4 製作符合公費流感疫苗接種之受托兒童及工作人員名冊，載明施打情形，並紀錄未施打疫苗者之原因（如對蛋白質或疫苗其他成份過敏等)。 | G12: □ | H12: □ | I12: □ | K12: □ | L12: □ | M12: □
A13: 3-1 訂有員工感染管制教育訓練計畫，並依計畫辦理員工教育訓練及留存訓練證明文件備查。 | G13: □ | H13: □ | I13: □ | K13: □ | L13: □ | M13: □
A14: 3-2 新進員工應於到職後一個月內接受至少四小時感染管制課程。* | G14: □ | H14: □ | I14: □ | K14: □ | L14: □ | M14: □
A15: 3-3 在職員工每年應接受至少四小時感染管制課程，專責人員每年應接受至少八小時感染管制課程。 | G15: □ | H15: □ | I15: □ | K15: □ | L15: □ | M15: □
A16: 4-1 每週至少清潔、消毒機構內外環境（包括整個機構房室、活動區、用餐區等）1次且有紀錄（包括環境清消日期、區域、消毒藥品名稱及方式等）。 | G16: □ | H16: □ | I16: □ | K16: □ | L16: □ | M16: □
A17: 4-2 機構內具防蚊蟲設備。 | G17: □ | H17: □ | I17: □ | K17: □ | L17: □ | M17: □
A18: 4-3 清潔人員能正確配製漂白水濃度。 | G18: □ | H18: □ | I18: □ | K18: □ | L18: □ | M18: □
A19: 5-1 機構應指派符合資格之感染管制專責人員，負責推動機構內感染管制相關工作。 | G19: □ | H19: □ | I19: □ | K19: □ | L19: □ | M19: □
... A26: 7-2 機構發生疑似感染個案應有紀錄，如須由機構送醫，協助之工作人員應視需要配戴口罩、手套，做好個人防護。 | G26: □ | H26: □ | I26: □ | K26: □ | L26: □ | M26: □
A28: Step1-各縣市政府提供 | G28: Step2-托嬰中心填寫
A29: 其他建議： | G29: 參酌辦理情形 | J29: 說明
G30: 已完成 | H30: 執行中 | I30: 未參採
G31: □ | H31: □ | I31: □
G32: □ | H32: □ | I32: □
G33: □ | H33: □ | I33: □
G34: □ | H34: □ | I34: □
G35: □ | H35: □ | I35: □

Sheet 托嬰中心20
A1: 107年托嬰中心感染管制查核(輔導)結果暨應改善事項追蹤表
M2: 查核（輔導）日期：
A3: Step1-各縣市政府提供 | G3: Step2-托嬰中心填寫 | K3: Step3-各縣市政府填寫
A4: 縣(市) | B4: 受查機構名稱 | D4: 達成比率(%) | F4: 查核 (輔導) 結果 | G4: 執行狀況 | J4: 目前執行情形 （或尚未執行理由） | K4: 追蹤結果 | N4: 追踨情形
D5: 不符合 | E5: 符合 | G5: 已完成 | H5: 執行中 | I5: 未執行 | K5: 已完成 | L5: 執行中 | M5: 未執行
D6: =(COUNTIF(B8:B8,"不符合")+COUNTIF(B9:B12,"不符合")+COUNTIF(B13:B15,"不符合")+COUNTIF(B16:B18,"不符合")+COUNTIF(B19:B22,"不符合")+COUNTIF(B23:B24,"不符合")+COUNTIF(B25:B26,"不符合"))/(19-COUNTIF(B14,"不適用")) -> 0 | E6: =(COUNTIF(B8:B8,"符合")+COUNTIF(B9:B12,"符合")+COUNTIF(B13:B15,"符合")+COUNTIF(B16:B18,"符合")+COUNTIF(B19:B22,"符合")+COUNTIF(B23:B24,"符合")+COUNTIF(B25:B26,"符合"))/(19-COUNTIF(B14,"不適用")) -> 0 | F6: =IF(COUNTBLANK(B8:B26)>0,"",IF(E6>=0.6,"合格","不合格"))
A7: 查核項目 | B7: 評分等級 | C7: 應改善事項（符合、不適用項目免填） | G7: 若無應改善事項免填 | K7: 若無應改善事項免填
A8: 1-1 協助父母參照兒童健康手冊之內容，定期追蹤受託兒童健康檢查情形，且有紀錄。 | G8: □ | H8: □ | I8: □ | K8: □ | L8: □ | M8: □
A9: 2-1 宣導公費疫苗接種資訊，並鼓勵受托兒童及工作人員接種。 | G9: □ | H9: □ | I9: □ | K9: □ | L9: □ | M9: □
A10: 2-2 鼓勵工作人員接種麻疹、腮腺炎、德國麻疹(MMR)疫苗，並了解接種情形。 | G10: □ | H10: □ | I10: □ | K10: □ | L10: □ | M10: □
A11: 2-3 協助父母參照兒童健康手冊之內容，定期追蹤受托兒童預防接種情形，且有紀錄。 | G11: □ | H11: □ | I11: □ | K11: □ | L11: □ | M11: □
A12: 2-4 製作符合公費流感疫苗接種之受托兒童及工作人員名冊，載明施打情形，並紀錄未施打疫苗者之原因（如對蛋白質或疫苗其他成份過敏等)。 | G12: □ | H12: □ | I12: □ | K12: □ | L12: □ | M12: □
A13: 3-1 訂有員工感染管制教育訓練計畫，並依計畫辦理員工教育訓練及留存訓練證明文件備查。 | G13: □ | H13: □ | I13: □ | K13: □ | L13: □ | M13: □
A14: 3-2 新進員工應於到職後一個月內接受至少四小時感染管制課程。* | G14: □ | H14: □ | I14: □ | K14: □ | L14: □ | M14: □
A15: 3-3 在職員工每年應接受至少四小時感染管制課程，專責人員每年應接受至少八小時感染管制課程。 | G15: □ | H15: □ | I15: □ | K15: □ | L15: □ | M15: □
A16: 4-1 每週至少清潔、消毒機構內外環境（包括整個機構房室、活動區、用餐區等）1次且有紀錄（包括環境清消日期、區域、消毒藥品名稱及方式等）。 | G16: □ | H16: □ | I16: □ | K16: □ | L16: □ | M16: □
A17: 4-2 機構內具防蚊蟲設備。 | G17: □ | H17: □ | I17: □ | K17: □ | L17: □ | M17: □
A18: 4-3 清潔人員能正確配製漂白水濃度。 | G18: □ | H18: □ | I18: □ | K18: □ | L18: □ | M18: □
A19: 5-1 機構應指派符合資格之感染管制專責人員，負責推動機構內感染管制相關工作。 | G19: □ | H19: □ | I19: □ | K19: □ | L19: □ | M19: □
... A26: 7-2 機構發生疑似感染個案應有紀錄，如須由機構送醫，協助之工作人員應視需要配戴口罩、手套，做好個人防護。 | G26: □ | H26: □ | I26: □ | K26: □ | L26: □ | M26: □
A28: Step1-各縣市政府提供 | G28: Step2-托嬰中心填寫
A29: 其他建議： | G29: 參酌辦理情形 | J29: 說明
G30: 已完成 | H30: 執行中 | I30: 未參採
G31: □ | H31: □ | I31: □
G32: □ | H32: □ | I32: □
G33: □ | H33: □ | I33: □
G34: □ | H34: □ | I34: □
G35: □ | H35: □ | I35: □

Sheet 托嬰中心21
A1: 107年托嬰中心感染管制查核(輔導)結果暨應改善事項追蹤表
M2: 查核（輔導）日期：
A3: Step1-各縣市政府提供 | G3: Step2-托嬰中心填寫 | K3: Step3-各縣市政府填寫
A4: 縣(市) | B4: 受查機構名稱 | D4: 達成比率(%) | F4: 查核 (輔導) 結果 | G4: 執行狀況 | J4: 目前執行情形 （或尚未執行理由） | K4: 追蹤結果 | N4: 追踨情形
D5: 不符合 | E5: 符合 | G5: 已完成 | H5: 執行中 | I5: 未執行 | K5: 已完成 | L5: 執行中 | M5: 未執行
D6: =(COUNTIF(B8:B8,"不符合")+COUNTIF(B9:B12,"不符合")+COUNTIF(B13:B15,"不符合")+COUNTIF(B16:B18,"不符合")+COUNTIF(B19:B22,"不符合")+COUNTIF(B23:B24,"不符合")+COUNTIF(B25:B26,"不符合"))/(19-COUNTIF(B14,"不適用")) -> 0 | E6: =(COUNTIF(B8:B8,"符合")+COUNTIF(B9:B12,"符合")+COUNTIF(B13:B15,"符合")+COUNTIF(B16:B18,"符合")+COUNTIF(B19:B22,"符合")+COUNTIF(B23:B24,"符合")+COUNTIF(B25:B26,"符合"))/(19-COUNTIF(B14,"不適用")) -> 0 | F6: =IF(COUNTBLANK(B8:B26)>0,"",IF(E6>=0.6,"合格","不合格"))
A7: 查核項目 | B7: 評分等級 | C7: 應改善事項（符合、不適用項目免填） | G7: 若無應改善事項免填 | K7: 若無應改善事項免填
A8: 1-1 協助父母參照兒童健康手冊之內容，定期追蹤受託兒童健康檢查情形，且有紀錄。 | G8: □ | H8: □ | I8: □ | K8: □ | L8: □ | M8: □
A9: 2-1 宣導公費疫苗接種資訊，並鼓勵受托兒童及工作人員接種。 | G9: □ | H9: □ | I9: □ | K9: □ | L9: □ | M9: □
A10: 2-2 鼓勵工作人員接種麻疹、腮腺炎、德國麻疹(MMR)疫苗，並了解接種情形。 | G10: □ | H10: □ | I10: □ | K10: □ | L10: □ | M10: □
A11: 2-3 協助父母參照兒童健康手冊之內容，定期追蹤受托兒童預防接種情形，且有紀錄。 | G11: □ | H11: □ | I11: □ | K11: □ | L11: □ | M11: □
A12: 2-4 製作符合公費流感疫苗接種之受托兒童及工作人員名冊，載明施打情形，並紀錄未施打疫苗者之原因（如對蛋白質或疫苗其他成份過敏等)。 | G12: □ | H12: □ | I12: □ | K12: □ | L12: □ | M12: □
A13: 3-1 訂有員工感染管制教育訓練計畫，並依計畫辦理員工教育訓練及留存訓練證明文件備查。 | G13: □ | H13: □ | I13: □ | K13: □ | L13: □ | M13: □
A14: 3-2 新進員工應於到職後一個月內接受至少四小時感染管制課程。* | G14: □ | H14: □ | I14: □ | K14: □ | L14: □ | M14: □
A15: 3-3 在職員工每年應接受至少四小時感染管制課程，專責人員每年應接受至少八小時感染管制課程。 | G15: □ | H15: □ | I15: □ | K15: □ | L15: □ | M15: □
A16: 4-1 每週至少清潔、消毒機構內外環境（包括整個機構房室、活動區、用餐區等）1次且有紀錄（包括環境清消日期、區域、消毒藥品名稱及方式等）。 | G16: □ | H16: □ | I16: □ | K16: □ | L16: □ | M16: □
A17: 4-2 機構內具防蚊蟲設備。 | G17: □ | H17: □ | I17: □ | K17: □ | L17: □ | M17: □
A18: 4-3 清潔人員能正確配製漂白水濃度。 | G18: □ | H18: □ | I18: □ | K18: □ | L18: □ | M18: □
A19: 5-1 機構應指派符合資格之感染管制專責人員，負責推動機構內感染管制相關工作。 | G19: □ | H19: □ | I19: □ | K19: □ | L19: □ | M19: □
... A26: 7-2 機構發生疑似感染個案應有紀錄，如須由機構送醫，協助之工作人員應視需要配戴口罩、手套，做好個人防護。 | G26: □ | H26: □ | I26: □ | K26: □ | L26: □ | M26: □
A28: Step1-各縣市政府提供 | G28: Step2-托嬰中心填寫
A29: 其他建議： | G29: 參酌辦理情形 | J29: 說明
G30: 已完成 | H30: 執行中 | I30: 未參採
G31: □ | H31: □ | I31: □
G32: □ | H32: □ | I32: □
G33: □ | H33: □ | I33: □
G34: □ | H34: □ | I34: □
G35: □ | H35: □ | I35: □

Sheet 托嬰中心22
A1: 107年托嬰中心感染管制查核(輔導)結果暨應改善事項追蹤表
M2: 查核（輔導）日期：
A3: Step1-各縣市政府提供 | G3: Step2-托嬰中心填寫 | K3: Step3-各縣市政府填寫
A4: 縣(市) | B4: 受查機構名稱 | D4: 達成比率(%) | F4: 查核 (輔導) 結果 | G4: 執行狀況 | J4: 目前執行情形 （或尚未執行理由） | K4: 追蹤結果 | N4: 追踨情形
D5: 不符合 | E5: 符合 | G5: 已完成 | H5: 執行中 | I5: 未執行 | K5: 已完成 | L5: 執行中 | M5: 未執行
D6: =(COUNTIF(B8:B8,"不符合")+COUNTIF(B9:B12,"不符合")+COUNTIF(B13:B15,"不符合")+COUNTIF(B16:B18,"不符合")+COUNTIF(B19:B22,"不符合")+COUNTIF(B23:B24,"不符合")+COUNTIF(B25:B26,"不符合"))/(19-COUNTIF(B14,"不適用")) -> 0 | E6: =(COUNTIF(B8:B8,"符合")+COUNTIF(B9:B12,"符合")+COUNTIF(B13:B15,"符合")+COUNTIF(B16:B18,"符合")+COUNTIF(B19:B22,"符合")+COUNTIF(B23:B24,"符合")+COUNTIF(B25:B26,"符合"))/(19-COUNTIF(B14,"不適用")) -> 0 | F6: =IF(COUNTBLANK(B8:B26)>0,"",IF(E6>=0.6,"合格","不合格"))
A7: 查核項目 | B7: 評分等級 | C7: 應改善事項（符合、不適用項目免填） | G7: 若無應改善事項免填 | K7: 若無應改善事項免填
A8: 1-1 協助父母參照兒童健康手冊之內容，定期追蹤受託兒童健康檢查情形，且有紀錄。 | G8: □ | H8: □ | I8: □ | K8: □ | L8: □ | M8: □
A9: 2-1 宣導公費疫苗接種資訊，並鼓勵受托兒童及工作人員接種。 | G9: □ | H9: □ | I9: □ | K9: □ | L9: □ | M9: □
A10: 2-2 鼓勵工作人員接種麻疹、腮腺炎、德國麻疹(MMR)疫苗，並了解接種情形。 | G10: □ | H10: □ | I10: □ | K10: □ | L10: □ | M10: □
A11: 2-3 協助父母參照兒童健康手冊之內容，定期追蹤受托兒童預防接種情形，且有紀錄。 | G11: □ | H11: □ | I11: □ | K11: □ | L11: □ | M11: □
A12: 2-4 製作符合公費流感疫苗接種之受托兒童及工作人員名冊，載明施打情形，並紀錄未施打疫苗者之原因（如對蛋白質或疫苗其他成份過敏等)。 | G12: □ | H12: □ | I12: □ | K12: □ | L12: □ | M12: □
A13: 3-1 訂有員工感染管制教育訓練計畫，並依計畫辦理員工教育訓練及留存訓練證明文件備查。 | G13: □ | H13: □ | I13: □ | K13: □ | L13: □ | M13: □
A14: 3-2 新進員工應於到職後一個月內接受至少四小時感染管制課程。* | G14: □ | H14: □ | I14: □ | K14: □ | L14: □ | M14: □
A15: 3-3 在職員工每年應接受至少四小時感染管制課程，專責人員每年應接受至少八小時感染管制課程。 | G15: □ | H15: □ | I15: □ | K15: □ | L15: □ | M15: □
A16: 4-1 每週至少清潔、消毒機構內外環境（包括整個機構房室、活動區、用餐區等）1次且有紀錄（包括環境清消日期、區域、消毒藥品名稱及方式等）。 | G16: □ | H16: □ | I16: □ | K16: □ | L16: □ | M16: □
A17: 4-2 機構內具防蚊蟲設備。 | G17: □ | H17: □ | I17: □ | K17: □ | L17: □ | M17: □
A18: 4-3 清潔人員能正確配製漂白水濃度。 | G18: □ | H18: □ | I18: □ | K18: □ | L18: □ | M18: □
A19: 5-1 機構應指派符合資格之感染管制專責人員，負責推動機構內感染管制相關工作。 | G19: □ | H19: □ | I19: □ | K19: □ | L19: □ | M19: □
... A26: 7-2 機構發生疑似感染個案應有紀錄，如須由機構送醫，協助之工作人員應視需要配戴口罩、手套，做好個人防護。 | G26: □ | H26: □ | I26: □ | K26: □ | L26: □ | M26: □
A28: Step1-各縣市政府提供 | G28: Step2-托嬰中心填寫
A29: 其他建議： | G29: 參酌辦理情形 | J29: 說明
G30: 已完成 | H30: 執行中 | I30: 未參採
G31: □ | H31: □ | I31: □
G32: □ | H32: □ | I32: □
G33: □ | H33: □ | I33: □
G34: □ | H34: □ | I34: □
G35: □ | H35: □ | I35: □

Sheet 托嬰中心23
A1: 107年托嬰中心感染管制查核(輔導)結果暨應改善事項追蹤表
M2: 查核（輔導）日期：
A3: Step1-各縣市政府提供 | G3: Step2-托嬰中心填寫 | K3: Step3-各縣市政府填寫
A4: 縣(市) | B4: 受查機構名稱 | D4: 達成比率(%) | F4: 查核 (輔導) 結果 | G4: 執行狀況 | J4: 目前執行情形 （或尚未執行理由） | K4: 追蹤結果 | N4: 追踨情形
D5: 不符合 | E5: 符合 | G5: 已完成 | H5: 執行中 | I5: 未執行 | K5: 已完成 | L5: 執行中 | M5: 未執行
D6: =(COUNTIF(B8:B8,"不符合")+COUNTIF(B9:B12,"不符合")+COUNTIF(B13:B15,"不符合")+COUNTIF(B16:B18,"不符合")+COUNTIF(B19:B22,"不符合")+COUNTIF(B23:B24,"不符合")+COUNTIF(B25:B26,"不符合"))/(19-COUNTIF(B14,"不適用")) -> 0 | E6: =(COUNTIF(B8:B8,"符合")+COUNTIF(B9:B12,"符合")+COUNTIF(B13:B15,"符合")+COUNTIF(B16:B18,"符合")+COUNTIF(B19:B22,"符合")+COUNTIF(B23:B24,"符合")+COUNTIF(B25:B26,"符合"))/(19-COUNTIF(B14,"不適用")) -> 0 | F6: =IF(COUNTBLANK(B8:B26)>0,"",IF(E6>=0.6,"合格","不合格"))
A7: 查核項目 | B7: 評分等級 | C7: 應改善事項（符合、不適用項目免填） | G7: 若無應改善事項免填 | K7: 若無應改善事項免填
A8: 1-1 協助父母參照兒童健康手冊之內容，定期追蹤受託兒童健康檢查情形，且有紀錄。 | G8: □ | H8: □ | I8: □ | K8: □ | L8: □ | M8: □
A9: 2-1 宣導公費疫苗接種資訊，並鼓勵受托兒童及工作人員接種。 | G9: □ | H9: □ | I9: □ | K9: □ | L9: □ | M9: □
A10: 2-2 鼓勵工作人員接種麻疹、腮腺炎、德國麻疹(MMR)疫苗，並了解接種情形。 | G10: □ | H10: □ | I10: □ | K10: □ | L10: □ | M10: □
A11: 2-3 協助父母參照兒童健康手冊之內容，定期追蹤受托兒童預防接種情形，且有紀錄。 | G11: □ | H11: □ | I11: □ | K11: □ | L11: □ | M11: □
A12: 2-4 製作符合公費流感疫苗接種之受托兒童及工作人員名冊，載明施打情形，並紀錄未施打疫苗者之原因（如對蛋白質或疫苗其他成份過敏等)。 | G12: □ | H12: □ | I12: □ | K12: □ | L12: □ | M12: □
A13: 3-1 訂有員工感染管制教育訓練計畫，並依計畫辦理員工教育訓練及留存訓練證明文件備查。 | G13: □ | H13: □ | I13: □ | K13: □ | L13: □ | M13: □
A14: 3-2 新進員工應於到職後一個月內接受至少四小時感染管制課程。* | G14: □ | H14: □ | I14: □ | K14: □ | L14: □ | M14: □
A15: 3-3 在職員工每年應接受至少四小時感染管制課程，專責人員每年應接受至少八小時感染管制課程。 | G15: □ | H15: □ | I15: □ | K15: □ | L15: □ | M15: □
A16: 4-1 每週至少清潔、消毒機構內外環境（包括整個機構房室、活動區、用餐區等）1次且有紀錄（包括環境清消日期、區域、消毒藥品名稱及方式等）。 | G16: □ | H16: □ | I16: □ | K16: □ | L16: □ | M16: □
A17: 4-2 機構內具防蚊蟲設備。 | G17: □ | H17: □ | I17: □ | K17: □ | L17: □ | M17: □
A18: 4-3 清潔人員能正確配製漂白水濃度。 | G18: □ | H18: □ | I18: □ | K18: □ | L18: □ | M18: □
A19: 5-1 機構應指派符合資格之感染管制專責人員，負責推動機構內感染管制相關工作。 | G19: □ | H19: □ | I19: □ | K19: □ | L19: □ | M19: □
... A26: 7-2 機構發生疑似感染個案應有紀錄，如須由機構送醫，協助之工作人員應視需要配戴口罩、手套，做好個人防護。 | G26: □ | H26: □ | I26: □ | K26: □ | L26: □ | M26: □
A28: Step1-各縣市政府提供 | G28: Step2-托嬰中心填寫
A29: 其他建議： | G29: 參酌辦理情形 | J29: 說明
G30: 已完成 | H30: 執行中 | I30: 未參採
G31: □ | H31: □ | I31: □
G32: □ | H32: □ | I32: □
G33: □ | H33: □ | I33: □
G34: □ | H34: □ | I34: □
G35: □ | H35: □ | I35: □

Sheet 托嬰中心24
A1: 107年托嬰中心感染管制查核(輔導)結果暨應改善事項追蹤表
M2: 查核（輔導）日期：
A3: Step1-各縣市政府提供 | G3: Step2-托嬰中心填寫 | K3: Step3-各縣市政府填寫
A4: 縣(市) | B4: 受查機構名稱 | D4: 達成比率(%) | F4: 查核 (輔導) 結果 | G4: 執行狀況 | J4: 目前執行情形 （或尚未執行理由） | K4: 追蹤結果 | N4: 追踨情形
D5: 不符合 | E5: 符合 | G5: 已完成 | H5: 執行中 | I5: 未執行 | K5: 已完成 | L5: 執行中 | M5: 未執行
D6: =(COUNTIF(B8:B8,"不符合")+COUNTIF(B9:B12,"不符合")+COUNTIF(B13:B15,"不符合")+COUNTIF(B16:B18,"不符合")+COUNTIF(B19:B22,"不符合")+COUNTIF(B23:B24,"不符合")+COUNTIF(B25:B26,"不符合"))/(19-COUNTIF(B14,"不適用")) -> 0 | E6: =(COUNTIF(B8:B8,"符合")+COUNTIF(B9:B12,"符合")+COUNTIF(B13:B15,"符合")+COUNTIF(B16:B18,"符合")+COUNTIF(B19:B22,"符合")+COUNTIF(B23:B24,"符合")+COUNTIF(B25:B26,"符合"))/(19-COUNTIF(B14,"不適用")) -> 0 | F6: =IF(COUNTBLANK(B8:B26)>0,"",IF(E6>=0.6,"合格","不合格"))
A7: 查核項目 | B7: 評分等級 | C7: 應改善事項（符合、不適用項目免填） | G7: 若無應改善事項免填 | K7: 若無應改善事項免填
A8: 1-1 協助父母參照兒童健康手冊之內容，定期追蹤受託兒童健康檢查情形，且有紀錄。 | G8: □ | H8: □ | I8: □ | K8: □ | L8: □ | M8: □
A9: 2-1 宣導公費疫苗接種資訊，並鼓勵受托兒童及工作人員接種。 | G9: □ | H9: □ | I9: □ | K9: □ | L9: □ | M9: □
A10: 2-2 鼓勵工作人員接種麻疹、腮腺炎、德國麻疹(MMR)疫苗，並了解接種情形。 | G10: □ | H10: □ | I10: □ | K10: □ | L10: □ | M10: □
A11: 2-3 協助父母參照兒童健康手冊之內容，定期追蹤受托兒童預防接種情形，且有紀錄。 | G11: □ | H11: □ | I11: □ | K11: □ | L11: □ | M11: □
A12: 2-4 製作符合公費流感疫苗接種之受托兒童及工作人員名冊，載明施打情形，並紀錄未施打疫苗者之原因（如對蛋白質或疫苗其他成份過敏等)。 | G12: □ | H12: □ | I12: □ | K12: □ | L12: □ | M12: □
A13: 3-1 訂有員工感染管制教育訓練計畫，並依計畫辦理員工教育訓練及留存訓練證明文件備查。 | G13: □ | H13: □ | I13: □ | K13: □ | L13: □ | M13: □
A14: 3-2 新進員工應於到職後一個月內接受至少四小時感染管制課程。* | G14: □ | H14: □ | I14: □ | K14: □ | L14: □ | M14: □
A15: 3-3 在職員工每年應接受至少四小時感染管制課程，專責人員每年應接受至少八小時感染管制課程。 | G15: □ | H15: □ | I15: □ | K15: □ | L15: □ | M15: □
A16: 4-1 每週至少清潔、消毒機構內外環境（包括整個機構房室、活動區、用餐區等）1次且有紀錄（包括環境清消日期、區域、消毒藥品名稱及方式等）。 | G16: □ | H16: □ | I16: □ | K16: □ | L16: □ | M16: □
A17: 4-2 機構內具防蚊蟲設備。 | G17: □ | H17: □ | I17: □ | K17: □ | L17: □ | M17: □
A18: 4-3 清潔人員能正確配製漂白水濃度。 | G18: □ | H18: □ | I18: □ | K18: □ | L18: □ | M18: □
A19: 5-1 機構應指派符合資格之感染管制專責人員，負責推動機構內感染管制相關工作。 | G19: □ | H19: □ | I19: □ | K19: □ | L19: □ | M19: □
... A26: 7-2 機構發生疑似感染個案應有紀錄，如須由機構送醫，協助之工作人員應視需要配戴口罩、手套，做好個人防護。 | G26: □ | H26: □ | I26: □ | K26: □ | L26: □ | M26: □
A28: Step1-各縣市政府提供 | G28: Step2-托嬰中心填寫
A29: 其他建議： | G29: 參酌辦理情形 | J29: 說明
G30: 已完成 | H30: 執行中 | I30: 未參採
G31: □ | H31: □ | I31: □
G32: □ | H32: □ | I32: □
G33: □ | H33: □ | I33: □
G34: □ | H34: □ | I34: □
G35: □ | H35: □ | I35: □

Sheet 托嬰中心25
A1: 107年托嬰中心感染管制查核(輔導)結果暨應改善事項追蹤表
M2: 查核（輔導）日期：
A3: Step1-各縣市政府提供 | G3: Step2-托嬰中心填寫 | K3: Step3-各縣市政府填寫
A4: 縣(市) | B4: 受查機構名稱 | D4: 達成比率(%) | F4: 查核 (輔導) 結果 | G4: 執行狀況 | J4: 目前執行情形 （或尚未執行理由） | K4: 追蹤結果 | N4: 追踨情形
D5: 不符合 | E5: 符合 | G5: 已完成 | H5: 執行中 | I5: 未執行 | K5: 已完成 | L5: 執行中 | M5: 未執行
D6: =(COUNTIF(B8:B8,"不符合")+COUNTIF(B9:B12,"不符合")+COUNTIF(B13:B15,"不符合")+COUNTIF(B16:B18,"不符合")+COUNTIF(B19:B22,"不符合")+COUNTIF(B23:B24,"不符合")+COUNTIF(B25:B26,"不符合"))/(19-COUNTIF(B14,"不適用")) -> 0 | E6: =(COUNTIF(B8:B8,"符合")+COUNTIF(B9:B12,"符合")+COUNTIF(B13:B15,"符合")+COUNTIF(B16:B18,"符合")+COUNTIF(B19:B22,"符合")+COUNTIF(B23:B24,"符合")+COUNTIF(B25:B26,"符合"))/(19-COUNTIF(B14,"不適用")) -> 0 | F6: =IF(COUNTBLANK(B8:B26)>0,"",IF(E6>=0.6,"合格","不合格"))
A7: 查核項目 | B7: 評分等級 | C7: 應改善事項（符合、不適用項目免填） | G7: 若無應改善事項免填 | K7: 若無應改善事項免填
A8: 1-1 協助父母參照兒童健康手冊之內容，定期追蹤受託兒童健康檢查情形，且有紀錄。 | G8: □ | H8: □ | I8: □ | K8: □ | L8: □ | M8: □
A9: 2-1 宣導公費疫苗接種資訊，並鼓勵受托兒童及工作人員接種。 | G9: □ | H9: □ | I9: □ | K9: □ | L9: □ | M9: □
A10: 2-2 鼓勵工作人員接種麻疹、腮腺炎、德國麻疹(MMR)疫苗，並了解接種情形。 | G10: □ | H10: □ | I10: □ | K10: □ | L10: □ | M10: □
A11: 2-3 協助父母參照兒童健康手冊之內容，定期追蹤受托兒童預防接種情形，且有紀錄。 | G11: □ | H11: □ | I11: □ | K11: □ | L11: □ | M11: □
A12: 2-4 製作符合公費流感疫苗接種之受托兒童及工作人員名冊，載明施打情形，並紀錄未施打疫苗者之原因（如對蛋白質或疫苗其他成份過敏等)。 | G12: □ | H12: □ | I12: □ | K12: □ | L12: □ | M12: □
A13: 3-1 訂有員工感染管制教育訓練計畫，並依計畫辦理員工教育訓練及留存訓練證明文件備查。 | G13: □ | H13: □ | I13: □ | K13: □ | L13: □ | M13: □
A14: 3-2 新進員工應於到職後一個月內接受至少四小時感染管制課程。* | G14: □ | H14: □ | I14: □ | K14: □ | L14: □ | M14: □
A15: 3-3 在職員工每年應接受至少四小時感染管制課程，專責人員每年應接受至少八小時感染管制課程。 | G15: □ | H15: □ | I15: □ | K15: □ | L15: □ | M15: □
A16: 4-1 每週至少清潔、消毒機構內外環境（包括整個機構房室、活動區、用餐區等）1次且有紀錄（包括環境清消日期、區域、消毒藥品名稱及方式等）。 | G16: □ | H16: □ | I16: □ | K16: □ | L16: □ | M16: □
A17: 4-2 機構內具防蚊蟲設備。 | G17: □ | H17: □ | I17: □ | K17: □ | L17: □ | M17: □
A18: 4-3 清潔人員能正確配製漂白水濃度。 | G18: □ | H18: □ | I18: □ | K18: □ | L18: □ | M18: □
A19: 5-1 機構應指派符合資格之感染管制專責人員，負責推動機構內感染管制相關工作。 | G19: □ | H19: □ | I19: □ | K19: □ | L19: □ | M19: □
... A26: 7-2 機構發生疑似感染個案應有紀錄，如須由機構送醫，協助之工作人員應視需要配戴口罩、手套，做好個人防護。 | G26: □ | H26: □ | I26: □ | K26: □ | L26: □ | M26: □
A28: Step1-各縣市政府提供 | G28: Step2-托嬰中心填寫
A29: 其他建議： | G29: 參酌辦理情形 | J29: 說明
G30: 已完成 | H30: 執行中 | I30: 未參採
G31: □ | H31: □ | I31: □
G32: □ | H32: □ | I32: □
G33: □ | H33: □ | I33: □
G34: □ | H34: □ | I34: □
G35: □ | H35: □ | I35: □

Sheet 托嬰中心26
A1: 107年托嬰中心感染管制查核(輔導)結果暨應改善事項追蹤表
M2: 查核（輔導）日期：
A3: Step1-各縣市政府提供 | G3: Step2-托嬰中心填寫 | K3: Step3-各縣市政府填寫
A4: 縣(市) | B4: 受查機構名稱 | D4: 達成比率(%) | F4: 查核 (輔導) 結果 | G4: 執行狀況 | J4: 目前執行情形 （或尚未執行理由） | K4: 追蹤結果 | N4: 追踨情形
D5: 不符合 | E5: 符合 | G5: 已完成 | H5: 執行中 | I5: 未執行 | K5: 已完成 | L5: 執行中 | M5: 未執行
D6: =(COUNTIF(B8:B8,"不符合")+COUNTIF(B9:B12,"不符合")+COUNTIF(B13:B15,"不符合")+COUNTIF(B16:B18,"不符合")+COUNTIF(B19:B22,"不符合")+COUNTIF(B23:B24,"不符合")+COUNTIF(B25:B26,"不符合"))/(19-COUNTIF(B14,"不適用")) -> 0 | E6: =(COUNTIF(B8:B8,"符合")+COUNTIF(B9:B12,"符合")+COUNTIF(B13:B15,"符合")+COUNTIF(B16:B18,"符合")+COUNTIF(B19:B22,"符合")+COUNTIF(B23:B24,"符合")+COUNTIF(B25:B26,"符合"))/(19-COUNTIF(B14,"不適用")) -> 0 | F6: =IF(COUNTBLANK(B8:B26)>0,"",IF(E6>=0.6,"合格","不合格"))
A7: 查核項目 | B7: 評分等級 | C7: 應改善事項（符合、不適用項目免填） | G7: 若無應改善事項免填 | K7: 若無應改善事項免填
A8: 1-1 協助父母參照兒童健康手冊之內容，定期追蹤受託兒童健康檢查情形，且有紀錄。 | G8: □ | H8: □ | I8: □ | K8: □ | L8: □ | M8: □
A9: 2-1 宣導公費疫苗接種資訊，並鼓勵受托兒童及工作人員接種。 | G9: □ | H9: □ | I9: □ | K9: □ | L9: □ | M9: □
A10: 2-2 鼓勵工作人員接種麻疹、腮腺炎、德國麻疹(MMR)疫苗，並了解接種情形。 | G10: □ | H10: □ | I10: □ | K10: □ | L10: □ | M10: □
A11: 2-3 協助父母參照兒童健康手冊之內容，定期追蹤受托兒童預防接種情形，且有紀錄。 | G11: □ | H11: □ | I11: □ | K11: □ | L11: □ | M11: □
A12: 2-4 製作符合公費流感疫苗接種之受托兒童及工作人員名冊，載明施打情形，並紀錄未施打疫苗者之原因（如對蛋白質或疫苗其他成份過敏等)。 | G12: □ | H12: □ | I12: □ | K12: □ | L12: □ | M12: □
A13: 3-1 訂有員工感染管制教育訓練計畫，並依計畫辦理員工教育訓練及留存訓練證明文件備查。 | G13: □ | H13: □ | I13: □ | K13: □ | L13: □ | M13: □
A14: 3-2 新進員工應於到職後一個月內接受至少四小時感染管制課程。* | G14: □ | H14: □ | I14: □ | K14: □ | L14: □ | M14: □
A15: 3-3 在職員工每年應接受至少四小時感染管制課程，專責人員每年應接受至少八小時感染管制課程。 | G15: □ | H15: □ | I15: □ | K15: □ | L15: □ | M15: □
A16: 4-1 每週至少清潔、消毒機構內外環境（包括整個機構房室、活動區、用餐區等）1次且有紀錄（包括環境清消日期、區域、消毒藥品名稱及方式等）。 | G16: □ | H16: □ | I16: □ | K16: □ | L16: □ | M16: □
A17: 4-2 機構內具防蚊蟲設備。 | G17: □ | H17: □ | I17: □ | K17: □ | L17: □ | M17: □
A18: 4-3 清潔人員能正確配製漂白水濃度。 | G18: □ | H18: □ | I18: □ | K18: □ | L18: □ | M18: □
A19: 5-1 機構應指派符合資格之感染管制專責人員，負責推動機構內感染管制相關工作。 | G19: □ | H19: □ | I19: □ | K19: □ | L19: □ | M19: □
... A26: 7-2 機構發生疑似感染個案應有紀錄，如須由機構送醫，協助之工作人員應視需要配戴口罩、手套，做好個人防護。 | G26: □ | H26: □ | I26: □ | K26: □ | L26: □ | M26: □
A28: Step1-各縣市政府提供 | G28: Step2-托嬰中心填寫
A29: 其他建議： | G29: 參酌辦理情形 | J29: 說明
G30: 已完成 | H30: 執行中 | I30: 未參採
G31: □ | H31: □ | I31: □
G32: □ | H32: □ | I32: □
G33: □ | H33: □ | I33: □
G34: □ | H34: □ | I34: □
G35: □ | H35: □ | I35: □

Sheet 托嬰中心27
A1: 107年托嬰中心感染管制查核(輔導)結果暨應改善事項追蹤表
M2: 查核（輔導）日期：
A3: Step1-各縣市政府提供 | G3: Step2-托嬰中心填寫 | K3: Step3-各縣市政府填寫
A4: 縣(市) | B4: 受查機構名稱 | D4: 達成比率(%) | F4: 查核 (輔導) 結果 | G4: 執行狀況 | J4: 目前執行情形 （或尚未執行理由） | K4: 追蹤結果 | N4: 追踨情形
D5: 不符合 | E5: 符合 | G5: 已完成 | H5: 執行中 | I5: 未執行 | K5: 已完成 | L5: 執行中 | M5: 未執行
D6: =(COUNTIF(B8:B8,"不符合")+COUNTIF(B9:B12,"不符合")+COUNTIF(B13:B15,"不符合")+COUNTIF(B16:B18,"不符合")+COUNTIF(B19:B22,"不符合")+COUNTIF(B23:B24,"不符合")+COUNTIF(B25:B26,"不符合"))/(19-COUNTIF(B14,"不適用")) -> 0 | E6: =(COUNTIF(B8:B8,"符合")+COUNTIF(B9:B12,"符合")+COUNTIF(B13:B15,"符合")+COUNTIF(B16:B18,"符合")+COUNTIF(B19:B22,"符合")+COUNTIF(B23:B24,"符合")+COUNTIF(B25:B26,"符合"))/(19-COUNTIF(B14,"不適用")) -> 0 | F6: =IF(COUNTBLANK(B8:B26)>0,"",IF(E6>=0.6,"合格","不合格"))
A7: 查核項目 | B7: 評分等級 | C7: 應改善事項（符合、不適用項目免填） | G7: 若無應改善事項免填 | K7: 若無應改善事項免填
A8: 1-1 協助父母參照兒童健康手冊之內容，定期追蹤受託兒童健康檢查情形，且有紀錄。 | G8: □ | H8: □ | I8: □ | K8: □ | L8: □ | M8: □
A9: 2-1 宣導公費疫苗接種資訊，並鼓勵受托兒童及工作人員接種。 | G9: □ | H9: □ | I9: □ | K9: □ | L9: □ | M9: □
A10: 2-2 鼓勵工作人員接種麻疹、腮腺炎、德國麻疹(MMR)疫苗，並了解接種情形。 | G10: □ | H10: □ | I10: □ | K10: □ | L10: □ | M10: □
A11: 2-3 協助父母參照兒童健康手冊之內容，定期追蹤受托兒童預防接種情形，且有紀錄。 | G11: □ | H11: □ | I11: □ | K11: □ | L11: □ | M11: □
A12: 2-4 製作符合公費流感疫苗接種之受托兒童及工作人員名冊，載明施打情形，並紀錄未施打疫苗者之原因（如對蛋白質或疫苗其他成份過敏等)。 | G12: □ | H12: □ | I12: □ | K12: □ | L12: □ | M12: □
A13: 3-1 訂有員工感染管制教育訓練計畫，並依計畫辦理員工教育訓練及留存訓練證明文件備查。 | G13: □ | H13: □ | I13: □ | K13: □ | L13: □ | M13: □
A14: 3-2 新進員工應於到職後一個月內接受至少四小時感染管制課程。* | G14: □ | H14: □ | I14: □ | K14: □ | L14: □ | M14: □
A15: 3-3 在職員工每年應接受至少四小時感染管制課程，專責人員每年應接受至少八小時感染管制課程。 | G15: □ | H15: □ | I15: □ | K15: □ | L15: □ | M15: □
A16: 4-1 每週至少清潔、消毒機構內外環境（包括整個機構房室、活動區、用餐區等）1次且有紀錄（包括環境清消日期、區域、消毒藥品名稱及方式等）。 | G16: □ | H16: □ | I16: □ | K16: □ | L16: □ | M16: □
A17: 4-2 機構內具防蚊蟲設備。 | G17: □ | H17: □ | I17: □ | K17: □ | L17: □ | M17: □
A18: 4-3 清潔人員能正確配製漂白水濃度。 | G18: □ | H18: □ | I18: □ | K18: □ | L18: □ | M18: □
A19: 5-1 機構應指派符合資格之感染管制專責人員，負責推動機構內感染管制相關工作。 | G19: □ | H19: □ | I19: □ | K19: □ | L19: □ | M19: □
... A26: 7-2 機構發生疑似感染個案應有紀錄，如須由機構送醫，協助之工作人員應視需要配戴口罩、手套，做好個人防護。 | G26: □ | H26: □ | I26: □ | K26: □ | L26: □ | M26: □
A28: Step1-各縣市政府提供 | G28: Step2-托嬰中心填寫
A29: 其他建議： | G29: 參酌辦理情形 | J29: 說明
G30: 已完成 | H30: 執行中 | I30: 未參採
G31: □ | H31: □ | I31: □
G32: □ | H32: □ | I32: □
G33: □ | H33: □ | I33: □
G34: □ | H34: □ | I34: □
G35: □ | H35: □ | I35: □

Sheet 托嬰中心28
A1: 107年托嬰中心感染管制查核(輔導)結果暨應改善事項追蹤表
M2: 查核（輔導）日期：
A3: Step1-各縣市政府提供 | G3: Step2-托嬰中心填寫 | K3: Step3-各縣市政府填寫
A4: 縣(市) | B4: 受查機構名稱 | D4: 達成比率(%) | F4: 查核 (輔導) 結果 | G4: 執行狀況 | J4: 目前執行情形 （或尚未執行理由） | K4: 追蹤結果 | N4: 追踨情形
D5: 不符合 | E5: 符合 | G5: 已完成 | H5: 執行中 | I5: 未執行 | K5: 已完成 | L5: 執行中 | M5: 未執行
D6: =(COUNTIF(B8:B8,"不符合")+COUNTIF(B9:B12,"不符合")+COUNTIF(B13:B15,"不符合")+COUNTIF(B16:B18,"不符合")+COUNTIF(B19:B22,"不符合")+COUNTIF(B23:B24,"不符合")+COUNTIF(B25:B26,"不符合"))/(19-COUNTIF(B14,"不適用")) -> 0 | E6: =(COUNTIF(B8:B8,"符合")+COUNTIF(B9:B12,"符合")+COUNTIF(B13:B15,"符合")+COUNTIF(B16:B18,"符合")+COUNTIF(B19:B22,"符合")+COUNTIF(B23:B24,"符合")+COUNTIF(B25:B26,"符合"))/(19-COUNTIF(B14,"不適用")) -> 0 | F6: =IF(COUNTBLANK(B8:B26)>0,"",IF(E6>=0.6,"合格","不合格"))
A7: 查核項目 | B7: 評分等級 | C7: 應改善事項（符合、不適用項目免填） | G7: 若無應改善事項免填 | K7: 若無應改善事項免填
A8: 1-1 協助父母參照兒童健康手冊之內容，定期追蹤受託兒童健康檢查情形，且有紀錄。 | G8: □ | H8: □ | I8: □ | K8: □ | L8: □ | M8: □
A9: 2-1 宣導公費疫苗接種資訊，並鼓勵受托兒童及工作人員接種。 | G9: □ | H9: □ | I9: □ | K9: □ | L9: □ | M9: □
A10: 2-2 鼓勵工作人員接種麻疹、腮腺炎、德國麻疹(MMR)疫苗，並了解接種情形。 | G10: □ | H10: □ | I10: □ | K10: □ | L10: □ | M10: □
A11: 2-3 協助父母參照兒童健康手冊之內容，定期追蹤受托兒童預防接種情形，且有紀錄。 | G11: □ | H11: □ | I11: □ | K11: □ | L11: □ | M11: □
A12: 2-4 製作符合公費流感疫苗接種之受托兒童及工作人員名冊，載明施打情形，並紀錄未施打疫苗者之原因（如對蛋白質或疫苗其他成份過敏等)。 | G12: □ | H12: □ | I12: □ | K12: □ | L12: □ | M12: □
A13: 3-1 訂有員工感染管制教育訓練計畫，並依計畫辦理員工教育訓練及留存訓練證明文件備查。 | G13: □ | H13: □ | I13: □ | K13: □ | L13: □ | M13: □
A14: 3-2 新進員工應於到職後一個月內接受至少四小時感染管制課程。* | G14: □ | H14: □ | I14: □ | K14: □ | L14: □ | M14: □
A15: 3-3 在職員工每年應接受至少四小時感染管制課程，專責人員每年應接受至少八小時感染管制課程。 | G15: □ | H15: □ | I15: □ | K15: □ | L15: □ | M15: □
A16: 4-1 每週至少清潔、消毒機構內外環境（包括整個機構房室、活動區、用餐區等）1次且有紀錄（包括環境清消日期、區域、消毒藥品名稱及方式等）。 | G16: □ | H16: □ | I16: □ | K16: □ | L16: □ | M16: □
A17: 4-2 機構內具防蚊蟲設備。 | G17: □ | H17: □ | I17: □ | K17: □ | L17: □ | M17: □
A18: 4-3 清潔人員能正確配製漂白水濃度。 | G18: □ | H18: □ | I18: □ | K18: □ | L18: □ | M18: □
A19: 5-1 機構應指派符合資格之感染管制專責人員，負責推動機構內感染管制相關工作。 | G19: □ | H19: □ | I19: □ | K19: □ | L19: □ | M19: □
... A26: 7-2 機構發生疑似感染個案應有紀錄，如須由機構送醫，協助之工作人員應視需要配戴口罩、手套，做好個人防護。 | G26: □ | H26: □ | I26: □ | K26: □ | L26: □ | M26: □
A28: Step1-各縣市政府提供 | G28: Step2-托嬰中心填寫
A29: 其他建議： | G29: 參酌辦理情形 | J29: 說明
G30: 已完成 | H30: 執行中 | I30: 未參採
G31: □ | H31: □ | I31: □
G32: □ | H32: □ | I32: □
G33: □ | H33: □ | I33: □
G34: □ | H34: □ | I34: □
G35: □ | H35: □ | I35: □

Sheet 托嬰中心29
A1: 107年托嬰中心感染管制查核(輔導)結果暨應改善事項追蹤表
M2: 查核（輔導）日期：
A3: Step1-各縣市政府提供 | G3: Step2-托嬰中心填寫 | K3: Step3-各縣市政府填寫
A4: 縣(市) | B4: 受查機構名稱 | D4: 達成比率(%) | F4: 查核 (輔導) 結果 | G4: 執行狀況 | J4: 目前執行情形 （或尚未執行理由） | K4: 追蹤結果 | N4: 追踨情形
D5: 不符合 | E5: 符合 | G5: 已完成 | H5: 執行中 | I5: 未執行 | K5: 已完成 | L5: 執行中 | M5: 未執行
D6: =(COUNTIF(B8:B8,"不符合")+COUNTIF(B9:B12,"不符合")+COUNTIF(B13:B15,"不符合")+COUNTIF(B16:B18,"不符合")+COUNTIF(B19:B22,"不符合")+COUNTIF(B23:B24,"不符合")+COUNTIF(B25:B26,"不符合"))/(19-COUNTIF(B14,"不適用")) -> 0 | E6: =(COUNTIF(B8:B8,"符合")+COUNTIF(B9:B12,"符合")+COUNTIF(B13:B15,"符合")+COUNTIF(B16:B18,"符合")+COUNTIF(B19:B22,"符合")+COUNTIF(B23:B24,"符合")+COUNTIF(B25:B26,"符合"))/(19-COUNTIF(B14,"不適用")) -> 0 | F6: =IF(COUNTBLANK(B8:B26)>0,"",IF(E6>=0.6,"合格","不合格"))
A7: 查核項目 | B7: 評分等級 | C7: 應改善事項（符合、不適用項目免填） | G7: 若無應改善事項免填 | K7: 若無應改善事項免填
A8: 1-1 協助父母參照兒童健康手冊之內容，定期追蹤受託兒童健康檢查情形，且有紀錄。 | G8: □ | H8: □ | I8: □ | K8: □ | L8: □ | M8: □
A9: 2-1 宣導公費疫苗接種資訊，並鼓勵受托兒童及工作人員接種。 | G9: □ | H9: □ | I9: □ | K9: □ | L9: □ | M9: □
A10: 2-2 鼓勵工作人員接種麻疹、腮腺炎、德國麻疹(MMR)疫苗，並了解接種情形。 | G10: □ | H10: □ | I10: □ | K10: □ | L10: □ | M10: □
A11: 2-3 協助父母參照兒童健康手冊之內容，定期追蹤受托兒童預防接種情形，且有紀錄。 | G11: □ | H11: □ | I11: □ | K11: □ | L11: □ | M11: □
A12: 2-4 製作符合公費流感疫苗接種之受托兒童及工作人員名冊，載明施打情形，並紀錄未施打疫苗者之原因（如對蛋白質或疫苗其他成份過敏等)。 | G12: □ | H12: □ | I12: □ | K12: □ | L12: □ | M12: □
A13: 3-1 訂有員工感染管制教育訓練計畫，並依計畫辦理員工教育訓練及留存訓練證明文件備查。 | G13: □ | H13: □ | I13: □ | K13: □ | L13: □ | M13: □
A14: 3-2 新進員工應於到職後一個月內接受至少四小時感染管制課程。* | G14: □ | H14: □ | I14: □ | K14: □ | L14: □ | M14: □
A15: 3-3 在職員工每年應接受至少四小時感染管制課程，專責人員每年應接受至少八小時感染管制課程。 | G15: □ | H15: □ | I15: □ | K15: □ | L15: □ | M15: □
A16: 4-1 每週至少清潔、消毒機構內外環境（包括整個機構房室、活動區、用餐區等）1次且有紀錄（包括環境清消日期、區域、消毒藥品名稱及方式等）。 | G16: □ | H16: □ | I16: □ | K16: □ | L16: □ | M16: □
A17: 4-2 機構內具防蚊蟲設備。 | G17: □ | H17: □ | I17: □ | K17: □ | L17: □ | M17: □
A18: 4-3 清潔人員能正確配製漂白水濃度。 | G18: □ | H18: □ | I18: □ | K18: □ | L18: □ | M18: □
A19: 5-1 機構應指派符合資格之感染管制專責人員，負責推動機構內感染管制相關工作。 | G19: □ | H19: □ | I19: □ | K19: □ | L19: □ | M19: □
... A26: 7-2 機構發生疑似感染個案應有紀錄，如須由機構送醫，協助之工作人員應視需要配戴口罩、手套，做好個人防護。 | G26: □ | H26: □ | I26: □ | K26: □ | L26: □ | M26: □
A28: Step1-各縣市政府提供 | G28: Step2-托嬰中心填寫
A29: 其他建議： | G29: 參酌辦理情形 | J29: 說明
G30: 已完成 | H30: 執行中 | I30: 未參採
G31: □ | H31: □ | I31: □
G32: □ | H32: □ | I32: □
G33: □ | H33: □ | I33: □
G34: □ | H34: □ | I34: □
G35: □ | H35: □ | I35: □

Sheet 托嬰中心30
A1: 107年托嬰中心感染管制查核(輔導)結果暨應改善事項追蹤表
M2: 查核（輔導）日期：
A3: Step1-各縣市政府提供 | G3: Step2-托嬰中心填寫 | K3: Step3-各縣市政府填寫
A4: 縣(市) | B4: 受查機構名稱 | D4: 達成比率(%) | F4: 查核 (輔導) 結果 | G4: 執行狀況 | J4: 目前執行情形 （或尚未執行理由） | K4: 追蹤結果 | N4: 追踨情形
D5: 不符合 | E5: 符合 | G5: 已完成 | H5: 執行中 | I5: 未執行 | K5: 已完成 | L5: 執行中 | M5: 未執行
D6: =(COUNTIF(B8:B8,"不符合")+COUNTIF(B9:B12,"不符合")+COUNTIF(B13:B15,"不符合")+COUNTIF(B16:B18,"不符合")+COUNTIF(B19:B22,"不符合")+COUNTIF(B23:B24,"不符合")+COUNTIF(B25:B26,"不符合"))/(19-COUNTIF(B14,"不適用")) -> 0 | E6: =(COUNTIF(B8:B8,"符合")+COUNTIF(B9:B12,"符合")+COUNTIF(B13:B15,"符合")+COUNTIF(B16:B18,"符合")+COUNTIF(B19:B22,"符合")+COUNTIF(B23:B24,"符合")+COUNTIF(B25:B26,"符合"))/(19-COUNTIF(B14,"不適用")) -> 0 | F6: =IF(COUNTBLANK(B8:B26)>0,"",IF(E6>=0.6,"合格","不合格"))
A7: 查核項目 | B7: 評分等級 | C7: 應改善事項（符合、不適用項目免填） | G7: 若無應改善事項免填 | K7: 若無應改善事項免填
A8: 1-1 協助父母參照兒童健康手冊之內容，定期追蹤受託兒童健康檢查情形，且有紀錄。 | G8: □ | H8: □ | I8: □ | K8: □ | L8: □ | M8: □
A9: 2-1 宣導公費疫苗接種資訊，並鼓勵受托兒童及工作人員接種。 | G9: □ | H9: □ | I9: □ | K9: □ | L9: □ | M9: □
A10: 2-2 鼓勵工作人員接種麻疹、腮腺炎、德國麻疹(MMR)疫苗，並了解接種情形。 | G10: □ | H10: □ | I10: □ | K10: □ | L10: □ | M10: □
A11: 2-3 協助父母參照兒童健康手冊之內容，定期追蹤受托兒童預防接種情形，且有紀錄。 | G11: □ | H11: □ | I11: □ | K11: □ | L11: □ | M11: □
A12: 2-4 製作符合公費流感疫苗接種之受托兒童及工作人員名冊，載明施打情形，並紀錄未施打疫苗者之原因（如對蛋白質或疫苗其他成份過敏等)。 | G12: □ | H12: □ | I12: □ | K12: □ | L12: □ | M12: □
A13: 3-1 訂有員工感染管制教育訓練計畫，並依計畫辦理員工教育訓練及留存訓練證明文件備查。 | G13: □ | H13: □ | I13: □ | K13: □ | L13: □ | M13: □
A14: 3-2 新進員工應於到職後一個月內接受至少四小時感染管制課程。* | G14: □ | H14: □ | I14: □ | K14: □ | L14: □ | M14: □
A15: 3-3 在職員工每年應接受至少四小時感染管制課程，專責人員每年應接受至少八小時感染管制課程。 | G15: □ | H15: □ | I15: □ | K15: □ | L15: □ | M15: □
A16: 4-1 每週至少清潔、消毒機構內外環境（包括整個機構房室、活動區、用餐區等）1次且有紀錄（包括環境清消日期、區域、消毒藥品名稱及方式等）。 | G16: □ | H16: □ | I16: □ | K16: □ | L16: □ | M16: □
A17: 4-2 機構內具防蚊蟲設備。 | G17: □ | H17: □ | I17: □ | K17: □ | L17: □ | M17: □
A18: 4-3 清潔人員能正確配製漂白水濃度。 | G18: □ | H18: □ | I18: □ | K18: □ | L18: □ | M18: □
A19: 5-1 機構應指派符合資格之感染管制專責人員，負責推動機構內感染管制相關工作。 | G19: □ | H19: □ | I19: □ | K19: □ | L19: □ | M19: □
... A26: 7-2 機構發生疑似感染個案應有紀錄，如須由機構送醫，協助之工作人員應視需要配戴口罩、手套，做好個人防護。 | G26: □ | H26: □ | I26: □ | K26: □ | L26: □ | M26: □
A28: Step1-各縣市政府提供 | G28: Step2-托嬰中心填寫
A29: 其他建議： | G29: 參酌辦理情形 | J29: 說明
G30: 已完成 | H30: 執行中 | I30: 未參採
G31: □ | H31: □ | I31: □
G32: □ | H32: □ | I32: □
G33: □ | H33: □ | I33: □
G34: □ | H34: □ | I34: □
G35: □ | H35: □ | I35: □
